BEGIN:VCALENDAR
VERSION:2.0
PRODID:-//ok.edith-webco.de//NONSGML kigkonsult.se iCalcreator 2.41.92//
CALSCALE:GREGORIAN
METHOD:PUBLISH
UID:64663763-3331-4531-b965-636364383133
X-WR-TIMEZONE:Europe/Berlin
X-LIC-LOCATION:Europe/Berlin
BEGIN:VEVENT
UID:584531-kulturportal@ok.edith-webco.de
DTSTAMP:20260425T180143Z
DESCRIPTION:Kurzbeschreibung:\n Sinfonische Filmmusik im Stadtpark - von gr
 oßen Hollywood-Klassikern bis zu energiegeladenen Kultmelodien.\n Ort:\n S
 tadtpark\n Kaiserstraße 107\, 77933 Lahr\n Veranstalter:\n Musikschule\n T
 ermin:\n Beginn: 26.06.2026\, 19:00 Uhr\n Ende: 26.06.2026\n Link:\n Zur D
 etailseite
DTSTART;TZID=Europe/Berlin:20260626T190000
DTEND;TZID=Europe/Berlin:20260626T220000
LOCATION:Stadtpark\, Kaiserstraße 107\, 77933 Lahr
SUMMARY:Open-Air-Konzert der Musikschule Lahr \, Stadtpark
X-ALT-DESC;FMTTYPE=text/html:<strong>Kurzbeschreibung:</strong><br/>Sinfoni
 sche Filmmusik im Stadtpark - von großen Hollywood-Klassikern bis zu energ
 iegeladenen Kultmelodien.<br /><strong>Ort:</strong><br/>Stadtpark<br/>Kai
 serstraße 107\, 77933 Lahr<br /><strong>Veranstalter:</strong><br/>Musiksc
 hule<br /><strong>Termin:</strong><br/>Beginn: 26.06.2026\, 19:00 Uhr<br/>
 Ende: 26.06.2026<br /><strong>Link:</strong><br/><a href='https://ok.edith
 -webco.de/de/veranstaltungen/detail/veranstaltung/id/584531-open-air-konze
 rt-der-musikschule-lahr/?vt=1'>Zur Detailseite</a>
END:VEVENT
END:VCALENDAR
