BEGIN:VCALENDAR
VERSION:2.0
PRODID:-//ok.edith-webco.de//NONSGML kigkonsult.se iCalcreator 2.41.92//
CALSCALE:GREGORIAN
METHOD:PUBLISH
UID:64616165-6437-4236-b366-356664663134
X-WR-TIMEZONE:Europe/Berlin
X-LIC-LOCATION:Europe/Berlin
BEGIN:VEVENT
UID:584682-kulturportal@ok.edith-webco.de
DTSTAMP:20260425T143147Z
DESCRIPTION:Kurzbeschreibung:\n Am Mittwoch\, den 8. Juli findet das Konzer
 t der Alphornfreunde mittlerer Schwarzwald im Klostergarten statt.\n Ort:
 \n Klostergarten\n Klosterstraße 1\, 77716 Haslach\n Veranstalter:\n Stadt
  Haslach - Kultur und Marketing\n Termin:\n Beginn: 08.07.2026\, 19:30 Uhr
 \n Ende: 08.07.2026\n Link:\n Zur Detailseite
DTSTART;TZID=Europe/Berlin:20260708T193000
DTEND;TZID=Europe/Berlin:20260708T223000
LOCATION:Klostergarten\, Klosterstraße 1\, 77716 Haslach
SUMMARY:Promenadenkonzert mit den Alphornfreunden Mittlerer Schwarzwald \, 
 Klostergarten
X-ALT-DESC;FMTTYPE=text/html:<strong>Kurzbeschreibung:</strong><br/>Am Mitt
 woch\, den 8. Juli findet das Konzert der Alphornfreunde mittlerer Schwarz
 wald im Klostergarten statt.<br /><strong>Ort:</strong><br/>Klostergarten<
 br/>Klosterstraße 1\, 77716 Haslach<br /><strong>Veranstalter:</strong><br
 />Stadt Haslach - Kultur und Marketing<br /><strong>Termin:</strong><br/>B
 eginn: 08.07.2026\, 19:30 Uhr<br/>Ende: 08.07.2026<br /><strong>Link:</str
 ong><br/><a href='https://ok.edith-webco.de/de/veranstaltungen/detail/vera
 nstaltung/id/584682-promenadenkonzert-mit-den-alphornfreunden-mittlerer-sc
 hwarzwald/?vt=1'>Zur Detailseite</a>
END:VEVENT
END:VCALENDAR
