BEGIN:VCALENDAR
VERSION:2.0
PRODID:-//ok.edith-webco.de//NONSGML kigkonsult.se iCalcreator 2.41.92//
CALSCALE:GREGORIAN
METHOD:PUBLISH
UID:32346563-3961-4261-b333-333536333862
X-WR-TIMEZONE:Europe/Berlin
X-LIC-LOCATION:Europe/Berlin
BEGIN:VEVENT
UID:585139-kulturportal@ok.edith-webco.de
DTSTAMP:20260425T143456Z
DESCRIPTION:Kurzbeschreibung:\n Mikhail Mordvinov spielt in der Stadthalle 
 Stücke von Schubert\, Bartók und Janacek\n Ort:\n Stadthalle am Nollen\n N
 ollenstr. 15\, 77723 Gengenbach\n Veranstalter:\n Weltklassik am Klavier\n
  Termin:\n Beginn: 02.08.2026\, 17:00 Uhr\n Ende: 02.08.2026\n Tickets:\n 
 www.weltklassik.de\n https://www.weltklassik.de\n Link:\n Zur Detailseite
DTSTART;TZID=Europe/Berlin:20260802T170000
DTEND;TZID=Europe/Berlin:20260802T200000
LOCATION:Stadthalle am Nollen\, Nollenstr. 15\, 77723 Gengenbach
SUMMARY:Weltklassik am Klavier - Auf verwachsenem Pfade - Klänge der Natur 
 und Erinnerung!\, Stadthalle am Nollen
X-ALT-DESC;FMTTYPE=text/html:<strong>Kurzbeschreibung:</strong><br/>Mikhail
  Mordvinov spielt in der Stadthalle Stücke von Schubert\, Bartók und Janac
 ek<br /><strong>Ort:</strong><br/>Stadthalle am Nollen<br/>Nollenstr. 15\,
  77723 Gengenbach<br /><strong>Veranstalter:</strong><br/>Weltklassik am K
 lavier<br /><strong>Termin:</strong><br/>Beginn: 02.08.2026\, 17:00 Uhr<br
 />Ende: 02.08.2026<br /><strong>Tickets: </strong><br/><a  class='wco_cb_s
 ubtitle_link'  id='ticketlink'  href='https://www.weltklassik.de' target='
 _blank' title='Öffnet externen Link in einem neuen Fenster'>www.weltklassi
 k.de</a><br/>https://www.weltklassik.de<br /><strong>Link:</strong><br/><a
  href='https://ok.edith-webco.de/de/veranstaltungen/detail/veranstaltung/i
 d/585139-weltklassik-am-klavier-auf-verwachsenem-pfade-klaenge-der-natur-u
 nd-erinnerung/?vt=1'>Zur Detailseite</a>
END:VEVENT
END:VCALENDAR
