BEGIN:VCALENDAR
VERSION:2.0
PRODID:-//ok.edith-webco.de//NONSGML kigkonsult.se iCalcreator 2.41.92//
CALSCALE:GREGORIAN
METHOD:PUBLISH
UID:32303632-6535-4365-b263-663564353062
X-WR-TIMEZONE:Europe/Berlin
X-LIC-LOCATION:Europe/Berlin
BEGIN:VEVENT
UID:588426-kulturportal@ok.edith-webco.de
DTSTAMP:20260425T143337Z
DESCRIPTION:Kurzbeschreibung:\n Unikat - Klavier und Stimme Genießen mit al
 len Sinnen am lauschigsten Plätzchen in der Lahrer Marktstraße.\n Ort:\n S
 chäfer´s Eck\, Am Rosenbrunnen\, Kirchstraße 1\, 77933 Lahr\n Ecke Marktst
 raße/Kirchstraße\, 77933 Lahr\n Veranstalter:\n Stadtmarketing Lahr\n Term
 in:\n Beginn: 10.07.2026\, 17:00 Uhr\n Ende: 10.07.2026\n Tickets:\n koste
 nfreie Veranstaltung\n \n Link:\n Zur Detailseite
DTSTART;TZID=Europe/Berlin:20260710T170000
DTEND;TZID=Europe/Berlin:20260710T200000
LOCATION:Schäfer´s Eck\, Am Rosenbrunnen\, Kirchstraße 1\, 77933 Lahr \, Ec
 ke Marktstraße/Kirchstraße\, 77933 Lahr
SUMMARY:Musik & Kulinarik am Rosenbrunnen - Genuss im Sommer \, Rosenbrunne
 n
X-ALT-DESC;FMTTYPE=text/html:<strong>Kurzbeschreibung:</strong><br/>Unikat 
 - Klavier und Stimme\n\nGenießen mit allen Sinnen am lauschigsten Plätzche
 n in der Lahrer Marktstraße. <br /><strong>Ort:</strong><br/>Schäfer´s Eck
 \, Am Rosenbrunnen\, Kirchstraße 1\, 77933 Lahr <br/>Ecke Marktstraße/Kirc
 hstraße\, 77933 Lahr<br /><strong>Veranstalter:</strong><br/>Stadtmarketin
 g Lahr <br /><strong>Termin:</strong><br/>Beginn: 10.07.2026\, 17:00 Uhr<b
 r/>Ende: 10.07.2026<br /><strong>Tickets: </strong><br/>kostenfreie Verans
 taltung<br />\n<br /><strong>Link:</strong><br/><a href='https://ok.edith-
 webco.de/de/veranstaltungen/detail/veranstaltung/id/588426-musik-kulinarik
 -am-rosenbrunnen-genuss-im-sommer/?vt=1'>Zur Detailseite</a>
END:VEVENT
END:VCALENDAR
