BEGIN:VCALENDAR
VERSION:2.0
PRODID:-//ok.edith-webco.de//NONSGML kigkonsult.se iCalcreator 2.41.92//
CALSCALE:GREGORIAN
METHOD:PUBLISH
UID:30363835-6464-4534-b738-653630323765
X-WR-TIMEZONE:Europe/Berlin
X-LIC-LOCATION:Europe/Berlin
BEGIN:VEVENT
UID:588648-kulturportal@ok.edith-webco.de
DTSTAMP:20260426T021316Z
DESCRIPTION:Kurzbeschreibung:\n Im Rahmen der Willstätter-Kulturtage findet
  wieder die beliebte After Work Party an der Kinzig statt.\n Ort:\n Mühlpl
 atz\n Am Mühlplatz 1\, 77731 Willstätt\n Veranstalter:\n Gemeinde Willstät
 t\n Termin:\n Beginn: 11.06.2026\, 17:00 Uhr\n Ende: 11.06.2026\n Tickets:
 \n Eintritt frei!\n Link:\n Zur Detailseite
DTSTART;TZID=Europe/Berlin:20260611T170000
DTEND;TZID=Europe/Berlin:20260611T200000
LOCATION:Mühlplatz\, Am Mühlplatz 1\, 77731 Willstätt
SUMMARY:After Work Party Gemeinde Willstätt\, Mühlplatz
X-ALT-DESC;FMTTYPE=text/html:<strong>Kurzbeschreibung:</strong><br/>Im Rahm
 en der Willstätter-Kulturtage findet wieder die beliebte After Work Party 
 an der Kinzig statt. <br /><strong>Ort:</strong><br/>Mühlplatz<br/>Am Mühl
 platz 1\, 77731 Willstätt<br /><strong>Veranstalter:</strong><br/>Gemeinde
  Willstätt<br /><strong>Termin:</strong><br/>Beginn: 11.06.2026\, 17:00 Uh
 r<br/>Ende: 11.06.2026<br /><strong>Tickets: </strong><br/>Eintritt frei!<
 br /><strong>Link:</strong><br/><a href='https://ok.edith-webco.de/de/vera
 nstaltungen/detail/veranstaltung/id/588648-after-work-party-gemeinde-wills
 taett/?vt=1'>Zur Detailseite</a>
END:VEVENT
END:VCALENDAR
