BEGIN:VCALENDAR
VERSION:2.0
PRODID:-//ok.edith-webco.de//NONSGML kigkonsult.se iCalcreator 2.41.92//
CALSCALE:GREGORIAN
METHOD:PUBLISH
UID:30333137-3936-4366-b366-346162393766
X-WR-TIMEZONE:Europe/Berlin
X-LIC-LOCATION:Europe/Berlin
BEGIN:VEVENT
UID:588936-kulturportal@ok.edith-webco.de
DTSTAMP:20260424T205211Z
DESCRIPTION:Kurzbeschreibung:\n Unbeschwertes Sommerfeeling und ausgelassen
 e Stimmung in der historischen Lahrer Innenstadt\n Ort:\n Innenstadt\n Lah
 rer Innenstadt\, 77933 Lahr\n Veranstalter:\n Stadtmarketing Lahr\n Termin
 :\n Beginn: 22.07.2028\, 16:00 Uhr\n Ende: 22.07.2028\n Tickets:\n Kostenf
 reie Veranstaltung\n Link:\n Zur Detailseite
DTSTART;TZID=Europe/Berlin:20280722T160000
DTEND;TZID=Europe/Berlin:20280722T190000
LOCATION:Innenstadt\, Lahrer Innenstadt\, 77933 Lahr
SUMMARY:Stadtfest Lahr 2028 \, Lahrer Innenstadt
X-ALT-DESC;FMTTYPE=text/html:<strong>Kurzbeschreibung:</strong><br/>Unbesch
 wertes Sommerfeeling und ausgelassene Stimmung in der historischen Lahrer 
 Innenstadt <br /><strong>Ort:</strong><br/>Innenstadt<br/>Lahrer Innenstad
 t\, 77933 Lahr<br /><strong>Veranstalter:</strong><br/>Stadtmarketing Lahr
 <br /><strong>Termin:</strong><br/>Beginn: 22.07.2028\, 16:00 Uhr<br/>Ende
 : 22.07.2028<br /><strong>Tickets: </strong><br/>Kostenfreie Veranstaltung
 <br /><strong>Link:</strong><br/><a href='https://ok.edith-webco.de/de/ver
 anstaltungen/detail/veranstaltung/id/588936-stadtfest-lahr-2028/?vt=1'>Zur
  Detailseite</a>
END:VEVENT
END:VCALENDAR
