BEGIN:VCALENDAR
VERSION:2.0
PRODID:-//ok.edith-webco.de//NONSGML kigkonsult.se iCalcreator 2.41.92//
CALSCALE:GREGORIAN
METHOD:PUBLISH
UID:34333734-3061-4635-b662-623964366539
X-WR-TIMEZONE:Europe/Berlin
X-LIC-LOCATION:Europe/Berlin
BEGIN:VEVENT
UID:588957-kulturportal@ok.edith-webco.de
DTSTAMP:20260425T102820Z
DESCRIPTION:Kurzbeschreibung:\n Klosterkonzert am 21. Juni in der Klosterki
 rche mit dem Kammerorchester Musica Viva Kinzigtal\n Ort:\n Klosterkirche 
 St. Christophorus\n Klosterstraße 1\, 77716 Haslach\n Veranstalter:\n Stad
 t Haslach - Kultur und Marketing\n Termin:\n Beginn: 21.06.2026\, 19:00 Uh
 r\n Ende: 21.06.2026\n Tickets:\n Eintritt 15\,00 € - Unter 18 Jahren ist 
 der Eintritt frei\n Link:\n Zur Detailseite
DTSTART;TZID=Europe/Berlin:20260621T190000
DTEND;TZID=Europe/Berlin:20260621T220000
LOCATION:Klosterkirche St. Christophorus\, Klosterstraße 1\, 77716 Haslach
SUMMARY:Klosterkonzert mit dem Kammerorchester Musica Viva Kinzigtal\, Klos
 terkirche St. Christophorus
X-ALT-DESC;FMTTYPE=text/html:<strong>Kurzbeschreibung:</strong><br/>Kloster
 konzert am 21. Juni in der Klosterkirche\nmit dem Kammerorchester Musica V
 iva Kinzigtal\n\n<br /><strong>Ort:</strong><br/>Klosterkirche St. Christo
 phorus<br/>Klosterstraße 1\, 77716 Haslach<br /><strong>Veranstalter:</str
 ong><br/>Stadt Haslach - Kultur und Marketing<br /><strong>Termin:</strong
 ><br/>Beginn: 21.06.2026\, 19:00 Uhr<br/>Ende: 21.06.2026<br /><strong>Tic
 kets: </strong><br/>Eintritt 15\,00 € - Unter 18 Jahren ist der Eintritt f
 rei<br /><strong>Link:</strong><br/><a href='https://ok.edith-webco.de/de/
 veranstaltungen/detail/veranstaltung/id/588957-klosterkonzert-mit-dem-kamm
 erorchester-musica-viva-kinzigtal/?vt=1'>Zur Detailseite</a>
END:VEVENT
END:VCALENDAR
