BEGIN:VCALENDAR
VERSION:2.0
PRODID:-//ok.edith-webco.de//NONSGML kigkonsult.se iCalcreator 2.41.92//
CALSCALE:GREGORIAN
METHOD:PUBLISH
UID:61356634-6530-4139-a463-353339616335
X-WR-TIMEZONE:Europe/Berlin
X-LIC-LOCATION:Europe/Berlin
BEGIN:VEVENT
UID:590703-kulturportal@ok.edith-webco.de
DTSTAMP:20260425T234836Z
DESCRIPTION:Kurzbeschreibung:\n Der Musikverein Konkordia Willstätt lädt zu
 m Festwochenende anläßlich seines 100-jährigen Bestehens ein.\n Ort:\n Han
 auerlandhalle\n Hornisgrindestraße 4\, 77731 Willstätt\n Veranstalter:\n M
 usikverein 'Konkordia' Willstätt\n Termin:\n Beginn: 03.05.2026\, 10:00 Uh
 r\n Ende: 03.05.2026\n Link:\n Zur Detailseite
DTSTART;TZID=Europe/Berlin:20260503T100000
DTEND;TZID=Europe/Berlin:20260503T130000
LOCATION:Hanauerlandhalle\, Hornisgrindestraße 4\, 77731 Willstätt
SUMMARY:Festwochenende Jubiläum 100 Jahre Musikverein Konkordia Willstätt\,
  Hanauerlandhalle
X-ALT-DESC;FMTTYPE=text/html:<strong>Kurzbeschreibung:</strong><br/>Der Mus
 ikverein Konkordia Willstätt lädt zum Festwochenende anläßlich seines 100-
 jährigen Bestehens ein.<br /><strong>Ort:</strong><br/>Hanauerlandhalle<br
 />Hornisgrindestraße 4\, 77731 Willstätt<br /><strong>Veranstalter:</stron
 g><br/>Musikverein 'Konkordia' Willstätt<br /><strong>Termin:</strong><br/
 >Beginn: 03.05.2026\, 10:00 Uhr<br/>Ende: 03.05.2026<br /><strong>Link:</s
 trong><br/><a href='https://ok.edith-webco.de/de/veranstaltungen/detail/ve
 ranstaltung/id/590703-festwochenende-jubilaeum-100-jahre-musikverein-konko
 rdia-willstaett/?vt=1'>Zur Detailseite</a>
END:VEVENT
END:VCALENDAR
