BEGIN:VCALENDAR
VERSION:2.0
PRODID:-//ok.edith-webco.de//NONSGML kigkonsult.se iCalcreator 2.41.92//
CALSCALE:GREGORIAN
METHOD:PUBLISH
UID:35373132-3337-4638-b666-653238383732
X-WR-TIMEZONE:Europe/Berlin
X-LIC-LOCATION:Europe/Berlin
BEGIN:VEVENT
UID:591582-kulturportal@ok.edith-webco.de
DTSTAMP:20260425T163347Z
DESCRIPTION:Kurzbeschreibung:\n Musikverein Unterentersbach lädt zum stimmu
 ngsvollen Scheunenkonzert ein\n Ort:\n Strickerhof Oberentersbach\, Zell a
 m Harmersbach\n Veranstalter:\n Musikverein Unterentersbach e. V.\n Termin
 :\n Beginn: 13.06.2026\, 20:00 Uhr\n Ende: 13.06.2026\n Link:\n Zur Detail
 seite
DTSTART;TZID=Europe/Berlin:20260613T200000
DTEND;TZID=Europe/Berlin:20260613T230000
LOCATION:Strickerhof Oberentersbach\, Zell am Harmersbach
SUMMARY:Scheunenkonzert\, Strickerhof Oberentersbach
X-ALT-DESC;FMTTYPE=text/html:<strong>Kurzbeschreibung:</strong><br/>Musikve
 rein Unterentersbach lädt zum stimmungsvollen Scheunenkonzert ein<br /><st
 rong>Ort:</strong><br/>Strickerhof Oberentersbach\, Zell am Harmersbach<br
  /><strong>Veranstalter:</strong><br/>Musikverein Unterentersbach e. V.<br
  /><strong>Termin:</strong><br/>Beginn: 13.06.2026\, 20:00 Uhr<br/>Ende: 1
 3.06.2026<br /><strong>Link:</strong><br/><a href='https://ok.edith-webco.
 de/de/veranstaltungen/detail/veranstaltung/id/591582-scheunenkonzert/?vt=1
 '>Zur Detailseite</a>
END:VEVENT
END:VCALENDAR
