BEGIN:VCALENDAR
VERSION:2.0
PRODID:-//ok.edith-webco.de//NONSGML kigkonsult.se iCalcreator 2.41.92//
CALSCALE:GREGORIAN
METHOD:PUBLISH
UID:61306533-3536-4239-a338-623938343339
X-WR-TIMEZONE:Europe/Berlin
X-LIC-LOCATION:Europe/Berlin
BEGIN:VEVENT
UID:593879-kulturportal@ok.edith-webco.de
DTSTAMP:20260425T192235Z
DESCRIPTION:Kurzbeschreibung:\n Die 180-Minuten-Party\, die bereits um 20 U
 hr beginnt: Endlich wieder feiern und frei sein\, ob Mama oder nicht\, in 
 einem Safer Space für Frauen.\n Ort:\n Das Kulturhaus.\n Am Läger 12\, 776
 94 Kehl\n Veranstalter:\n Kulturbüro Kehl\n Termin:\n Beginn: 21.11.2026\,
  20:00 Uhr\n Ende: 21.11.2026\n Tickets:\n ab 12\,00 €\n Link:\n Zur Detai
 lseite
DTSTART;TZID=Europe/Berlin:20261121T200000
DTEND;TZID=Europe/Berlin:20261121T230000
LOCATION:Das Kulturhaus.\, Am Läger 12\, 77694 Kehl
SUMMARY:MAMA GEHT TANZEN\, Das Kulturhaus.
X-ALT-DESC;FMTTYPE=text/html:<strong>Kurzbeschreibung:</strong><br/>Die 180
 -Minuten-Party\, die bereits um 20 Uhr beginnt: Endlich wieder feiern und 
 frei sein\, ob Mama oder nicht\, in einem Safer Space für Frauen.<br /><st
 rong>Ort:</strong><br/>Das Kulturhaus.<br/>Am Läger 12\, 77694 Kehl<br /><
 strong>Veranstalter:</strong><br/>Kulturbüro Kehl<br /><strong>Termin:</st
 rong><br/>Beginn: 21.11.2026\, 20:00 Uhr<br/>Ende: 21.11.2026<br /><strong
 >Tickets: </strong><br/>ab 12\,00 €<br /><strong>Link:</strong><br/><a hre
 f='https://ok.edith-webco.de/de/veranstaltungen/detail/veranstaltung/id/59
 3879-mama-geht-tanzen/?vt=1'>Zur Detailseite</a>
END:VEVENT
END:VCALENDAR
