BEGIN:VCALENDAR
VERSION:2.0
PRODID:-//ok.edith-webco.de//NONSGML kigkonsult.se iCalcreator 2.41.92//
CALSCALE:GREGORIAN
METHOD:PUBLISH
UID:61633363-3164-4032-b735-326438313764
X-WR-TIMEZONE:Europe/Berlin
X-LIC-LOCATION:Europe/Berlin
BEGIN:VEVENT
UID:594057-kulturportal@ok.edith-webco.de
DTSTAMP:20260425T033815Z
DESCRIPTION:Kurzbeschreibung:\n „Kinderkram“ ist die Garantie für das beste
  Echo\, das je aus einem Kinderzimmer durch die Wohnung drang: „Nochmal\, 
 NOCHMAL!“\n Ort:\n Reithalle im Kulturforum\n Moltkestraße 31\, 77654 Offe
 nburg\n Veranstalter:\n Kulturbüro Offenburg\n Termin:\n Beginn: 20.03.202
 7\, 15:00 Uhr\n Ende: 20.03.2027\n Tickets:\n Tickets kaufen\n https://ort
 enaukultur.reservix.de/p/reservix/event/2516224\n 1. Kategorie:\n bis 20\,
 80 € + Ermäßigung\n *Preise inkl. MwSt.\n \n Link:\n Zur Detailseite
DTSTART;TZID=Europe/Berlin:20270320T150000
DTEND;TZID=Europe/Berlin:20270320T180000
LOCATION:Reithalle im Kulturforum\, Moltkestraße 31\, 77654 Offenburg
SUMMARY:Maybebop - Kinderkram\, Reithalle im Kulturforum
X-ALT-DESC;FMTTYPE=text/html:<strong>Kurzbeschreibung:</strong><br/>„Kinder
 kram“ ist die Garantie für das beste Echo\, das je aus einem Kinderzimmer 
 durch die Wohnung drang: „Nochmal\, NOCHMAL!“ <br /><strong>Ort:</strong><
 br/>Reithalle im Kulturforum<br/>Moltkestraße 31\, 77654 Offenburg<br /><s
 trong>Veranstalter:</strong><br/>Kulturbüro Offenburg<br /><strong>Termin:
 </strong><br/>Beginn: 20.03.2027\, 15:00 Uhr<br/>Ende: 20.03.2027<br /><st
 rong>Tickets: </strong><br/><a rel='asdf' href='https://ok.edith-webco.de/
 de/musik/detail/tickets/id/594057-maybebop-kinderkram/?follow=https%253A%2
 52F%252Fortenaukultur.reservix.de%252Fp%252Freservix%252Fevent%252F2516224
 ' target='_blank' title='' id='ticketlink'>Tickets kaufen</a><br/>https://
 ortenaukultur.reservix.de/p/reservix/event/2516224<br/><b>1. Kategorie: </
 b><br />bis 20\,80 &euro\;&nbsp\; + Ermäßigung<br />*Preise inkl. MwSt.<br
  /><br /><strong>Link:</strong><br/><a href='https://ok.edith-webco.de/de/
 veranstaltungen/detail/veranstaltung/id/594057-maybebop-kinderkram/?vt=1'>
 Zur Detailseite</a>
END:VEVENT
END:VCALENDAR
