BEGIN:VCALENDAR
VERSION:2.0
PRODID:-//ok.edith-webco.de//NONSGML kigkonsult.se iCalcreator 2.41.92//
CALSCALE:GREGORIAN
METHOD:PUBLISH
UID:35666536-6637-4862-a162-373236613763
X-WR-TIMEZONE:Europe/Berlin
X-LIC-LOCATION:Europe/Berlin
BEGIN:VEVENT
UID:594248-kulturportal@ok.edith-webco.de
DTSTAMP:20260424T164139Z
DESCRIPTION:Kurzbeschreibung:\n Die „kleine Bühne“ von Achern Miteinander e
 .V. lädt am 25. April um 19:30 Uhr zu einem irischen Abend ins Café in der
  Hauptstraße 93 ein.\n Ort:\n Café von Achern Miteinander\, Hauptstraße 93
 \, Achern\n Veranstalter:\n Achern Miteinander e. V.\n Termin:\n Beginn: 2
 5.04.2026\, 19:30 Uhr\n Ende: 25.04.2026\n Link:\n Zur Detailseite
DTSTART;TZID=Europe/Berlin:20260425T193000
DTEND;TZID=Europe/Berlin:20260425T223000
LOCATION:Café von Achern Miteinander\, Hauptstraße 93\, Achern
SUMMARY:Irischer Abend\, Café von Achern Miteinander\, Hauptstraße 93
X-ALT-DESC;FMTTYPE=text/html:<strong>Kurzbeschreibung:</strong><br/>Die „kl
 eine Bühne“ von Achern Miteinander e.V. lädt am 25. April um 19:30 Uhr zu 
 einem irischen Abend ins Café in der Hauptstraße 93 ein.<br /><strong>Ort:
 </strong><br/>Café von Achern Miteinander\, Hauptstraße 93\, Achern<br /><
 strong>Veranstalter:</strong><br/>Achern Miteinander e. V.<br /><strong>Te
 rmin:</strong><br/>Beginn: 25.04.2026\, 19:30 Uhr<br/>Ende: 25.04.2026<br 
 /><strong>Link:</strong><br/><a href='https://ok.edith-webco.de/de/veranst
 altungen/detail/veranstaltung/id/594248-irischer-abend/?vt=1'>Zur Detailse
 ite</a>
END:VEVENT
END:VCALENDAR
