BEGIN:VCALENDAR
VERSION:2.0
PRODID:-//ok.edith-webco.de//NONSGML kigkonsult.se iCalcreator 2.41.92//
CALSCALE:GREGORIAN
METHOD:PUBLISH
UID:63333633-3263-4431-a463-363937356631
X-WR-TIMEZONE:Europe/Berlin
X-LIC-LOCATION:Europe/Berlin
BEGIN:VEVENT
UID:595007-kulturportal@ok.edith-webco.de
DTSTAMP:20260425T112505Z
DESCRIPTION:Kurzbeschreibung:\n Unter dem Motto „ Energia del Salsa“ gibt e
 s einen kostenlosen Schnuppertanzkurs\n Ort:\n KiK - Kultur in der Kaserne
 Weingartenstr. 34cOffenburg\, Offenburg\n Veranstalter:\n KiK - Kultur in 
 der Kaserne\n Termin:\n Beginn: 29.05.2026\, 20:00 Uhr\n Ende: 29.05.2026
 \n Tickets:\n frei\n Link:\n Zur Detailseite
DTSTART;TZID=Europe/Berlin:20260529T200000
DTEND;TZID=Europe/Berlin:20260529T230000
LOCATION:KiK - Kultur in der KaserneWeingartenstr. 34cOffenburg\, Offenburg
SUMMARY:Salsa Dance Night\, KiK - Kultur in der KaserneWeingartenstr. 34cOf
 fenburg
X-ALT-DESC;FMTTYPE=text/html:<strong>Kurzbeschreibung:</strong><br/>Unter d
 em Motto „ Energia del Salsa“  gibt es einen kostenlosen Schnuppertanzkurs
 <br /><strong>Ort:</strong><br/>KiK - Kultur in der KaserneWeingartenstr. 
 34cOffenburg\, Offenburg<br /><strong>Veranstalter:</strong><br/>KiK - Kul
 tur in der Kaserne<br /><strong>Termin:</strong><br/>Beginn: 29.05.2026\, 
 20:00 Uhr<br/>Ende: 29.05.2026<br /><strong>Tickets: </strong><br/>frei<br
  /><strong>Link:</strong><br/><a href='https://ok.edith-webco.de/de/verans
 taltungen/detail/veranstaltung/id/595007-salsa-dance-night/?vt=1'>Zur Deta
 ilseite</a>
END:VEVENT
END:VCALENDAR
