BEGIN:VCALENDAR
VERSION:2.0
PRODID:-//ok.edith-webco.de//NONSGML kigkonsult.se iCalcreator 2.41.92//
CALSCALE:GREGORIAN
METHOD:PUBLISH
UID:33633330-3937-4464-b563-363865373332
X-WR-TIMEZONE:Europe/Berlin
X-LIC-LOCATION:Europe/Berlin
BEGIN:VEVENT
UID:595112-kulturportal@ok.edith-webco.de
DTSTAMP:20260425T143451Z
DESCRIPTION:Kurzbeschreibung:\n Schlager Weltreise im Park. Musik trifft Mu
 ndart mit Felix 'der Glückliche' und Michela Neuberger. Globaler Sound tri
 fft lokale Sprache.\n Ort:\n Bürgerpark\n Im Dorf 26\, 77787 Nordrach\n Ve
 ranstalter:\n Touristen-Information Nordrach\n Termin:\n Beginn: 15.08.202
 6\, 19:30 Uhr\n Ende: 15.08.2026\n Link:\n Zur Detailseite
DTSTART;TZID=Europe/Berlin:20260815T193000
DTEND;TZID=Europe/Berlin:20260815T223000
LOCATION:Bürgerpark\, Im Dorf 26\, 77787 Nordrach
SUMMARY:Die Schlager-Weltreise im Park-Musik und Mundart\, Bürgerpark
X-ALT-DESC;FMTTYPE=text/html:<strong>Kurzbeschreibung:</strong><br/>Schlage
 r Weltreise im Park. Musik trifft Mundart mit Felix 'der Glückliche' und M
 ichela Neuberger. Globaler Sound trifft lokale Sprache.<br /><strong>Ort:<
 /strong><br/>Bürgerpark<br/>Im Dorf 26\, 77787 Nordrach<br /><strong>Veran
 stalter:</strong><br/>Touristen-Information Nordrach<br /><strong>Termin:<
 /strong><br/>Beginn: 15.08.2026\, 19:30 Uhr<br/>Ende: 15.08.2026<br /><str
 ong>Link:</strong><br/><a href='https://ok.edith-webco.de/de/veranstaltung
 en/detail/veranstaltung/id/595112-die-schlager-weltreise-im-park-musik-und
 -mundart/?vt=1'>Zur Detailseite</a>
END:VEVENT
END:VCALENDAR
