BEGIN:VCALENDAR
VERSION:2.0
PRODID:-//ok.edith-webco.de//NONSGML kigkonsult.se iCalcreator 2.41.92//
CALSCALE:GREGORIAN
METHOD:PUBLISH
UID:66636162-3031-4738-a436-396566666330
X-WR-TIMEZONE:Europe/Berlin
X-LIC-LOCATION:Europe/Berlin
BEGIN:VEVENT
UID:595125-kulturportal@ok.edith-webco.de
DTSTAMP:20260425T152717Z
DESCRIPTION:Kurzbeschreibung:\n Freuen Sie sich auf schwungvolle Blasmusik:
  Polkas\, Walzer und Märsche im unverwechselbaren böhmischen Stil. 77704 O
 berkirch – Nußbach (Zelt Musikverein)\n Ort:\n 77704 Oberkirch-Nussbach (Z
 elt des Musikverein)\, Oberkirch-Nußbach\n Veranstalter:\n Musikverein Nus
 sbach\n Termin:\n Beginn: 24.08.2026\, 19:00 Uhr\n Ende: 24.08.2026\n Tick
 ets:\n Eintritt frei\n Eintritt frei\n Link:\n Zur Detailseite
DTSTART;TZID=Europe/Berlin:20260824T190000
DTEND;TZID=Europe/Berlin:20260824T220000
LOCATION:77704 Oberkirch-Nussbach (Zelt des Musikverein)\, Oberkirch-Nußbac
 h
SUMMARY:Konzert der Orginal Rebländer Blasmusik beim Dorffest Nussbach\, 77
 704 Oberkirch-Nussbach (Zelt des Musikverein)
X-ALT-DESC;FMTTYPE=text/html:<strong>Kurzbeschreibung:</strong><br/>Freuen 
 Sie sich auf schwungvolle Blasmusik: Polkas\, Walzer und Märsche im unverw
 echselbaren böhmischen Stil.\n77704 Oberkirch – Nußbach (Zelt Musikverein)
 <br /><strong>Ort:</strong><br/>77704 Oberkirch-Nussbach (Zelt des Musikve
 rein)\, Oberkirch-Nußbach<br /><strong>Veranstalter:</strong><br/>Musikver
 ein Nussbach<br /><strong>Termin:</strong><br/>Beginn: 24.08.2026\, 19:00 
 Uhr<br/>Ende: 24.08.2026<br /><strong>Tickets: </strong><br/>Eintritt frei
 <br/>Eintritt frei<br /><strong>Link:</strong><br/><a href='https://ok.edi
 th-webco.de/de/veranstaltungen/detail/veranstaltung/id/595125-konzert-der-
 orginal-reblaender-blasmusik-beim-dorffest-nussbach/?vt=1'>Zur Detailseite
 </a>
END:VEVENT
END:VCALENDAR
