BEGIN:VCALENDAR
VERSION:2.0
PRODID:-//ok.edith-webco.de//NONSGML kigkonsult.se iCalcreator 2.41.92//
CALSCALE:GREGORIAN
METHOD:PUBLISH
UID:31643961-6262-4238-b564-393462626637
X-WR-TIMEZONE:Europe/Berlin
X-LIC-LOCATION:Europe/Berlin
BEGIN:VEVENT
UID:595285-kulturportal@ok.edith-webco.de
DTSTAMP:20260425T111056Z
DESCRIPTION:Kurzbeschreibung:\n Traditionsreicher Krämermarkt im Schwarzwal
 d\, der jedes Jahr zahlreiche Besucher aus der Region und darüber hinaus a
 nzieht\n Ort:\n Festplatz auf dem Fohrenbühl\, Hornberg - Fohrenbühl\n Ver
 anstalter:\n Landgasthof Schwanen\, Tel. 07833/935790\n Termin:\n Beginn: 
 24.05.2026\n Ende: 24.05.2026\n Link:\n Zur Detailseite
DTSTART;TZID=Europe/Berlin:20260524T000000
DTEND;TZID=Europe/Berlin:20260524T030000
LOCATION:Festplatz auf dem Fohrenbühl\, Hornberg - Fohrenbühl
SUMMARY:Fohrenbühler Schellenmarkt\, Festplatz auf dem Fohrenbühl
X-ALT-DESC;FMTTYPE=text/html:<strong>Kurzbeschreibung:</strong><br/>Traditi
 onsreicher Krämermarkt im Schwarzwald\, der jedes Jahr zahlreiche Besucher
  aus der Region und darüber hinaus anzieht<br /><strong>Ort:</strong><br/>
 Festplatz auf dem Fohrenbühl\, Hornberg - Fohrenbühl<br /><strong>Veransta
 lter:</strong><br/>Landgasthof Schwanen\, Tel. 07833/935790<br /><strong>T
 ermin:</strong><br/>Beginn: 24.05.2026<br/>Ende: 24.05.2026<br /><strong>L
 ink:</strong><br/><a href='https://ok.edith-webco.de/de/veranstaltungen/de
 tail/veranstaltung/id/595285-fohrenbuehler-schellenmarkt/?vt=1'>Zur Detail
 seite</a>
END:VEVENT
END:VCALENDAR
