BEGIN:VCALENDAR
VERSION:2.0
PRODID:-//ok.edith-webco.de//NONSGML kigkonsult.se iCalcreator 2.41.92//
CALSCALE:GREGORIAN
METHOD:PUBLISH
UID:31653166-3861-4862-a536-363732353131
X-WR-TIMEZONE:Europe/Berlin
X-LIC-LOCATION:Europe/Berlin
BEGIN:VEVENT
UID:595291-kulturportal@ok.edith-webco.de
DTSTAMP:20260424T232959Z
DESCRIPTION:Kurzbeschreibung:\n Auch 2027 werden Bayers Blues Company die R
 eithalle mit zeitlosem Rock und Blues beschallen.\n Ort:\n Reithalle im Ku
 lturforum\n Moltkestraße 31\, 77654 Offenburg\n Veranstalter:\n Kulturbüro
  Offenburg\n Termin:\n Beginn: 20.02.2027\, 20:00 Uhr\n Ende: 20.02.2027\n
  Tickets:\n Tickets kaufen\n https://ortenaukultur.reservix.de/p/reservix/
 event/2516253\n 1. Kategorie:\n bis 15\,30 € + Ermäßigung\n *Preise inkl. 
 MwSt.\n \n Link:\n Zur Detailseite
DTSTART;TZID=Europe/Berlin:20270220T200000
DTEND;TZID=Europe/Berlin:20270220T230000
LOCATION:Reithalle im Kulturforum\, Moltkestraße 31\, 77654 Offenburg
SUMMARY:BBC - Bayers Blues Company\, Reithalle im Kulturforum
X-ALT-DESC;FMTTYPE=text/html:<strong>Kurzbeschreibung:</strong><br/>Auch 20
 27 werden Bayers Blues Company die Reithalle mit zeitlosem Rock und Blues 
 beschallen.<br /><strong>Ort:</strong><br/>Reithalle im Kulturforum<br/>Mo
 ltkestraße 31\, 77654 Offenburg<br /><strong>Veranstalter:</strong><br/>Ku
 lturbüro Offenburg<br /><strong>Termin:</strong><br/>Beginn: 20.02.2027\, 
 20:00 Uhr<br/>Ende: 20.02.2027<br /><strong>Tickets: </strong><br/><a rel=
 'asdf' href='https://ok.edith-webco.de/de/musik/detail/tickets/id/595291-b
 bc-bayers-blues-company/?follow=https%253A%252F%252Fortenaukultur.reservix
 .de%252Fp%252Freservix%252Fevent%252F2516253' target='_blank' title='' id=
 'ticketlink'>Tickets kaufen</a><br/>https://ortenaukultur.reservix.de/p/re
 servix/event/2516253<br/><b>1. Kategorie: </b><br />bis 15\,30 &euro\;&nbs
 p\; + Ermäßigung<br />*Preise inkl. MwSt.<br /><br /><strong>Link:</strong
 ><br/><a href='https://ok.edith-webco.de/de/veranstaltungen/detail/veranst
 altung/id/595291-bbc-bayers-blues-company/?vt=1'>Zur Detailseite</a>
END:VEVENT
END:VCALENDAR
