BEGIN:VCALENDAR
VERSION:2.0
PRODID:-//ok.edith-webco.de//NONSGML kigkonsult.se iCalcreator 2.41.92//
CALSCALE:GREGORIAN
METHOD:PUBLISH
UID:66663936-3231-4531-b965-623664633064
X-WR-TIMEZONE:Europe/Berlin
X-LIC-LOCATION:Europe/Berlin
BEGIN:VEVENT
UID:584423-kulturportal@ok.edith-webco.de
DTSTAMP:20260426T004606Z
DESCRIPTION:Kurzbeschreibung:\n Mit seinem neuen Programm macht Willy Astor
  2026 wieder halt in Oberkirch.\n Ort:\n Erwin-Braun-Halle\n Querstraße 10
 \, 77704 Oberkirch\n Veranstalter:\n Stadt Oberkirch\n Termin:\n Beginn: 1
 5.10.2026\, 19:00 Uhr\n Ende: 15.10.2026\n Tickets:\n Tickets kaufen\n htt
 ps://ortenaukultur.reservix.de/p/reservix/event/2491549\n Preise:\n 36\,00
  €\n *Preise inkl. MwSt.\n \n Link:\n Zur Detailseite
DTSTART;TZID=Europe/Berlin:20261015T190000
DTEND;TZID=Europe/Berlin:20261015T220000
LOCATION:Erwin-Braun-Halle\, Querstraße 10\, 77704 Oberkirch
SUMMARY:Willy Astor: Reimart und Lachkunde  – Prädikat Wortvoll\, Erwin-Bra
 un-Halle
X-ALT-DESC;FMTTYPE=text/html:<strong>Kurzbeschreibung:</strong><br/>Mit sei
 nem neuen Programm macht Willy Astor 2026 wieder halt in Oberkirch.<br /><
 strong>Ort:</strong><br/>Erwin-Braun-Halle<br/>Querstraße 10\, 77704 Oberk
 irch<br /><strong>Veranstalter:</strong><br/>Stadt Oberkirch<br /><strong>
 Termin:</strong><br/>Beginn: 15.10.2026\, 19:00 Uhr<br/>Ende: 15.10.2026<b
 r /><strong>Tickets: </strong><br/><a rel='asdf' href='https://ok.edith-we
 bco.de/de/theater/detail/tickets/id/584423-willy-astor-reimart-und-lachkun
 de-praedikat-wortvoll/?follow=https%253A%252F%252Fortenaukultur.reservix.d
 e%252Fp%252Freservix%252Fevent%252F2491549' target='_blank' title='' id='t
 icketlink'>Tickets kaufen</a><br/>https://ortenaukultur.reservix.de/p/rese
 rvix/event/2491549<br/><b>Preise: </b><br />36\,00 &euro\;<br />*Preise in
 kl. MwSt.<br /><br /><strong>Link:</strong><br/><a href='https://ok.edith-
 webco.de/de/veranstaltungen/detail/veranstaltung/id/584423-willy-astor-rei
 mart-und-lachkunde-praedikat-wortvoll/?vt=1'>Zur Detailseite</a>
END:VEVENT
END:VCALENDAR
