BEGIN:VCALENDAR
VERSION:2.0
PRODID:-//ok.edith-webco.de//NONSGML kigkonsult.se iCalcreator 2.41.92//
CALSCALE:GREGORIAN
METHOD:PUBLISH
UID:35373465-6236-4232-a632-616265623464
X-WR-TIMEZONE:Europe/Berlin
X-LIC-LOCATION:Europe/Berlin
BEGIN:VEVENT
UID:585197-kulturportal@ok.edith-webco.de
DTSTAMP:20260425T135154Z
DESCRIPTION:Kurzbeschreibung:\n Opéra-comique von Georges Bizet. Libretto v
 on Henri Meilhac und Ludovic Halévy nach der gleichnamigen Novelle von Pro
 sper Mérimée.\n Ort:\n Platz der Verfassungsfreunde / Kulturforum\n Aenne-
 Burda-Allee\, 77654 Offenburg\n Veranstalter:\n Kulturbüro Offenburg\n Ter
 min:\n Beginn: 22.07.2026\, 20:00 Uhr\n Ende: 22.07.2026\n Tickets:\n Tick
 ets kaufen\n https://ortenaukultur.reservix.de/p/reservix/event/2491556\n 
 1. Kategorie:\n bis 42\,80 € + Ermäßigung\n 2. Kategorie:\n bis 38\,40 € +
  Ermäßigung\n 3. Kategorie:\n bis 34\,00 € + Ermäßigung\n *Preise inkl. Mw
 St.\n \n Link:\n Zur Detailseite
DTSTART;TZID=Europe/Berlin:20260722T200000
DTEND;TZID=Europe/Berlin:20260722T230000
LOCATION:Platz der Verfassungsfreunde / Kulturforum\, Aenne-Burda-Allee\, 7
 7654 Offenburg
SUMMARY:Carmen – Opéra-comique von Georges Bizet\, Platz der Verfassungsfre
 unde / Kulturforum
X-ALT-DESC;FMTTYPE=text/html:<strong>Kurzbeschreibung:</strong><br/>Opéra-c
 omique von Georges Bizet. Libretto von Henri Meilhac und Ludovic Halévy na
 ch der gleichnamigen Novelle von Prosper Mérimée. <br /><strong>Ort:</stro
 ng><br/>Platz der Verfassungsfreunde / Kulturforum<br/>Aenne-Burda-Allee\,
  77654 Offenburg<br /><strong>Veranstalter:</strong><br/>Kulturbüro Offenb
 urg<br /><strong>Termin:</strong><br/>Beginn: 22.07.2026\, 20:00 Uhr<br/>E
 nde: 22.07.2026<br /><strong>Tickets: </strong><br/><a rel='asdf' href='ht
 tps://ok.edith-webco.de/de/theater/detail/tickets/id/585197-carmen-opera-c
 omique-von-georges-bizet/?follow=https%253A%252F%252Fortenaukultur.reservi
 x.de%252Fp%252Freservix%252Fevent%252F2491556' target='_blank' title='' id
 ='ticketlink'>Tickets kaufen</a><br/>https://ortenaukultur.reservix.de/p/r
 eservix/event/2491556<br/><b>1. Kategorie: </b><br />bis 42\,80 &euro\;&nb
 sp\; + Ermäßigung<br /><b>2. Kategorie: </b><br />bis 38\,40 &euro\;&nbsp\
 ; + Ermäßigung<br /><b>3. Kategorie: </b><br />bis 34\,00 &euro\;&nbsp\; +
  Ermäßigung<br />*Preise inkl. MwSt.<br /><br /><strong>Link:</strong><br/
 ><a href='https://ok.edith-webco.de/de/veranstaltungen/detail/veranstaltun
 g/id/585197-carmen-opera-comique-von-georges-bizet/?vt=1'>Zur Detailseite<
 /a>
END:VEVENT
END:VCALENDAR
