BEGIN:VCALENDAR
VERSION:2.0
PRODID:-//ok.edith-webco.de//NONSGML kigkonsult.se iCalcreator 2.41.92//
CALSCALE:GREGORIAN
METHOD:PUBLISH
UID:38626539-3436-4233-b039-336462656630
X-WR-TIMEZONE:Europe/Berlin
X-LIC-LOCATION:Europe/Berlin
BEGIN:VEVENT
UID:588967-kulturportal@ok.edith-webco.de
DTSTAMP:20260425T225759Z
DESCRIPTION:Kurzbeschreibung:\n Es darf wieder gelacht werden ! Eine weiter
 e Folge von Comedy Flex in der Reithalle Offenburg.\n Ort:\n Reithalle im 
 Kulturforum\n Moltkestraße 31\, 77654 Offenburg\n Veranstalter:\n Kulturbü
 ro Offenburg\n Termin:\n Beginn: 08.04.2027\, 20:00 Uhr\n Ende: 08.04.2027
 \n Tickets:\n Tickets kaufen\n https://ortenaukultur.reservix.de/p/reservi
 x/event/2516308\n 1. Kategorie:\n bis 25\,20 € + Ermäßigung\n *Preise inkl
 . MwSt.\n \n Link:\n Zur Detailseite
DTSTART;TZID=Europe/Berlin:20270408T200000
DTEND;TZID=Europe/Berlin:20270408T230000
LOCATION:Reithalle im Kulturforum\, Moltkestraße 31\, 77654 Offenburg
SUMMARY:Comedy Flex\, Reithalle im Kulturforum
X-ALT-DESC;FMTTYPE=text/html:<strong>Kurzbeschreibung:</strong><br/>Es darf
  wieder gelacht werden ! Eine weitere Folge von Comedy Flex in der Reithal
 le Offenburg.<br /><strong>Ort:</strong><br/>Reithalle im Kulturforum<br/>
 Moltkestraße 31\, 77654 Offenburg<br /><strong>Veranstalter:</strong><br/>
 Kulturbüro Offenburg<br /><strong>Termin:</strong><br/>Beginn: 08.04.2027\
 , 20:00 Uhr<br/>Ende: 08.04.2027<br /><strong>Tickets: </strong><br/><a re
 l='asdf' href='https://ok.edith-webco.de/de/theater/detail/tickets/id/5889
 67-comedy-flex/?follow=https%253A%252F%252Fortenaukultur.reservix.de%252Fp
 %252Freservix%252Fevent%252F2516308' target='_blank' title='' id='ticketli
 nk'>Tickets kaufen</a><br/>https://ortenaukultur.reservix.de/p/reservix/ev
 ent/2516308<br/><b>1. Kategorie: </b><br />bis 25\,20 &euro\;&nbsp\; + Erm
 äßigung<br />*Preise inkl. MwSt.<br /><br /><strong>Link:</strong><br/><a 
 href='https://ok.edith-webco.de/de/veranstaltungen/detail/veranstaltung/id
 /588967-comedy-flex/?vt=1'>Zur Detailseite</a>
END:VEVENT
END:VCALENDAR
