BEGIN:VCALENDAR
VERSION:2.0
PRODID:-//ok.edith-webco.de//NONSGML kigkonsult.se iCalcreator 2.41.92//
CALSCALE:GREGORIAN
METHOD:PUBLISH
UID:66343235-3736-4964-b337-613163636339
X-WR-TIMEZONE:Europe/Berlin
X-LIC-LOCATION:Europe/Berlin
BEGIN:VEVENT
UID:594250-kulturportal@ok.edith-webco.de
DTSTAMP:20260424T211931Z
DESCRIPTION:Kurzbeschreibung:\n Fabian Lampert spielt sein Solo 'Einer dies
 er Abende' im Kulturhaus Kehl\n Ort:\n Das Kulturhaus.\n Am Läger 12\, 776
 94 Kehl\n Veranstalter:\n Kulturbüro Kehl\n Termin:\n Beginn: 12.03.2027\,
  20:00 Uhr\n Ende: 12.03.2027\n Tickets:\n Tickets kaufen\n https://ortena
 ukultur.reservix.de/p/reservix/event/2552178\n 1. Kategorie:\n bis 18\,60 
 € + Ermäßigung\n *Preise inkl. MwSt.\n \n Link:\n Zur Detailseite
DTSTART;TZID=Europe/Berlin:20270312T200000
DTEND;TZID=Europe/Berlin:20270312T230000
LOCATION:Das Kulturhaus.\, Am Läger 12\, 77694 Kehl
SUMMARY:Fabian Lampert - Einer dieser Abende\, Das Kulturhaus.
X-ALT-DESC;FMTTYPE=text/html:<strong>Kurzbeschreibung:</strong><br/>Fabian 
 Lampert spielt sein Solo 'Einer dieser Abende' im Kulturhaus Kehl<br /><st
 rong>Ort:</strong><br/>Das Kulturhaus.<br/>Am Läger 12\, 77694 Kehl<br /><
 strong>Veranstalter:</strong><br/>Kulturbüro Kehl<br /><strong>Termin:</st
 rong><br/>Beginn: 12.03.2027\, 20:00 Uhr<br/>Ende: 12.03.2027<br /><strong
 >Tickets: </strong><br/><a rel='asdf' href='https://ok.edith-webco.de/de/t
 heater/detail/tickets/id/594250-fabian-lampert-einer-dieser-abende/?follow
 =https%253A%252F%252Fortenaukultur.reservix.de%252Fp%252Freservix%252Feven
 t%252F2552178' target='_blank' title='' id='ticketlink'>Tickets kaufen</a>
 <br/>https://ortenaukultur.reservix.de/p/reservix/event/2552178<br/><b>1. 
 Kategorie: </b><br />bis 18\,60 &euro\;&nbsp\; + Ermäßigung<br />*Preise i
 nkl. MwSt.<br /><br /><strong>Link:</strong><br/><a href='https://ok.edith
 -webco.de/de/veranstaltungen/detail/veranstaltung/id/594250-fabian-lampert
 -einer-dieser-abende/?vt=1'>Zur Detailseite</a>
END:VEVENT
END:VCALENDAR
