BEGIN:VCALENDAR
VERSION:2.0
PRODID:-//ok.edith-webco.de//NONSGML kigkonsult.se iCalcreator 2.41.92//
CALSCALE:GREGORIAN
METHOD:PUBLISH
UID:30663033-6630-4763-b166-663239313864
X-WR-TIMEZONE:Europe/Berlin
X-LIC-LOCATION:Europe/Berlin
BEGIN:VEVENT
UID:541337-kulturportal@ok.edith-webco.de
DTSTAMP:20260425T152411Z
DESCRIPTION:Kurzbeschreibung:\n Achern - Kinder-\, Kultur- und Integrations
 fest auf dem Illenau Gelände\n Ort:\n Kulturforum Illenau\n Illenauer Alle
 e 77\, 77855 Achern\n Veranstalter:\n Stadt Achern - FG3.1 + FG3.2 - Kinde
 r-\, Kultur- und Integrationsfest\n Termin:\n Beginn: 12.07.2026\n Ende: 1
 2.07.2026\n Link:\n Zur Detailseite
DTSTART;TZID=Europe/Berlin:20260712T000000
DTEND;TZID=Europe/Berlin:20260712T030000
LOCATION:Kulturforum Illenau \, Illenauer Allee 77\, 77855 Achern
SUMMARY:Achern - Kinder-\, Kultur- und Integrationsfest auf dem Illenau Gel
 ände\, Kulturforum Illenau
X-ALT-DESC;FMTTYPE=text/html:<strong>Kurzbeschreibung:</strong><br/>Achern 
 - Kinder-\, Kultur- und Integrationsfest auf dem Illenau Gelände<br /><str
 ong>Ort:</strong><br/>Kulturforum Illenau  <br/>Illenauer Allee 77\, 77855
  Achern<br /><strong>Veranstalter:</strong><br/>Stadt Achern - FG3.1 + FG3
 .2 - Kinder-\, Kultur- und Integrationsfest<br /><strong>Termin:</strong><
 br/>Beginn: 12.07.2026<br/>Ende: 12.07.2026<br /><strong>Link:</strong><br
 /><a href='https://ok.edith-webco.de/de/veranstaltungen/detail/veranstaltu
 ng/id/541337-achern-kinder-kultur-und-integrationsfest-auf-dem-illenau-gel
 aende/?vt=1'>Zur Detailseite</a>
END:VEVENT
END:VCALENDAR
