BEGIN:VCALENDAR
VERSION:2.0
PRODID:-//ok.edith-webco.de//NONSGML kigkonsult.se iCalcreator 2.41.92//
CALSCALE:GREGORIAN
METHOD:PUBLISH
UID:34643536-3865-4932-a332-376165393938
X-WR-TIMEZONE:Europe/Berlin
X-LIC-LOCATION:Europe/Berlin
BEGIN:VEVENT
UID:557322-kulturportal@ok.edith-webco.de
DTSTAMP:20260425T105222Z
DESCRIPTION:Kurzbeschreibung:\n Der Musikverein Wittelbach lädt ins Haus am
  Alten Bantlehof ein und freut sich auf Ihr Kommen.\n Ort:\n Haus am Alten
  Bantlehof\n Kapellenweg 3\, 77960 Seelbach - Wittelbach\n Veranstalter:\n
  Musikverein Wittelbach e.V.\n Termin:\n Beginn: 04.07.2026\, 18:00 Uhr\n 
 Ende: 04.07.2026\n Tickets:\n Durchgehend freier Eintritt!\n Link:\n Zur D
 etailseite
DTSTART;TZID=Europe/Berlin:20260704T180000
DTEND;TZID=Europe/Berlin:20260704T210000
LOCATION:Haus am Alten Bantlehof\, Kapellenweg 3\, 77960 Seelbach - Wittelb
 ach
SUMMARY:Meet & Grill\, Haus am Alten Bantlehof
X-ALT-DESC;FMTTYPE=text/html:<strong>Kurzbeschreibung:</strong><br/>Der Mus
 ikverein Wittelbach lädt  ins Haus am Alten Bantlehof ein und freut sich a
 uf Ihr Kommen.\n<br /><strong>Ort:</strong><br/>Haus am Alten Bantlehof<br
 />Kapellenweg 3\, 77960 Seelbach - Wittelbach<br /><strong>Veranstalter:</
 strong><br/>Musikverein Wittelbach e.V.<br /><strong>Termin:</strong><br/>
 Beginn: 04.07.2026\, 18:00 Uhr<br/>Ende: 04.07.2026<br /><strong>Tickets: 
 </strong><br/>Durchgehend freier Eintritt!<br /><strong>Link:</strong><br/
 ><a href='https://ok.edith-webco.de/de/veranstaltungen/detail/veranstaltun
 g/id/557322-meet-grill/?vt=1'>Zur Detailseite</a>
END:VEVENT
END:VCALENDAR
