BEGIN:VCALENDAR
VERSION:2.0
PRODID:-//ok.edith-webco.de//NONSGML kigkonsult.se iCalcreator 2.41.92//
CALSCALE:GREGORIAN
METHOD:PUBLISH
UID:62653561-6339-4638-a630-663962373138
X-WR-TIMEZONE:Europe/Berlin
X-LIC-LOCATION:Europe/Berlin
BEGIN:VEVENT
UID:560889-kulturportal@ok.edith-webco.de
DTSTAMP:20260425T110733Z
DESCRIPTION:Kurzbeschreibung:\n Stadtführung und Museumsbesuch im Rahmen de
 r Veranstaltungsreihe 'DORT (Donnerstags in der Ortenau)' mit kleiner kuli
 narischer Überraschung.\n Ort:\n Treffpunkt: Rundofen Parkplatz\, Fabrik S
 traße 1\, Zell a.H.\n Kanzleiplatz\, 77736 Zell am Harmersbach\n Veranstal
 ter:\n Kultur und Stadtmarketing\n Termin:\n Beginn: 18.06.2026\, 15:30 Uh
 r\n Ende: 18.06.2026\n Tickets:\n 9\,50 Euro p.P.\, Führung\, Museumseintr
 itt und Kulinarik im Preis enthalten.\n Anmeldung: bis 3 Tage vor Termin (
 montags) erforderlich!\n Anmeldung und Infos:\n Tourist-Info Zell a.H.\n T
 el. 07835/6369240\n E-Mail: tourist-info@zell.de\n Link:\n Zur Detailseite
DTSTART;TZID=Europe/Berlin:20260618T153000
DTEND;TZID=Europe/Berlin:20260618T183000
LOCATION:Treffpunkt: Rundofen Parkplatz\, Fabrik Straße 1\, Zell a.H.\, Kan
 zleiplatz\, 77736 Zell am Harmersbach
SUMMARY:„Wo Hahn und Henne den Tisch decken –  Eine Entdeckungsreise durch 
 die bunte Welt der Zeller Keramik“ \, Storchenturm Museum
X-ALT-DESC;FMTTYPE=text/html:<strong>Kurzbeschreibung:</strong><br/>Stadtfü
 hrung und Museumsbesuch im Rahmen der Veranstaltungsreihe 'DORT (Donnersta
 gs in der Ortenau)'\nmit kleiner kulinarischer Überraschung.<br /><strong>
 Ort:</strong><br/>Treffpunkt: Rundofen Parkplatz\, Fabrik Straße 1\, Zell 
 a.H.<br/>Kanzleiplatz\, 77736 Zell am Harmersbach<br /><strong>Veranstalte
 r:</strong><br/>Kultur und Stadtmarketing<br /><strong>Termin:</strong><br
 />Beginn: 18.06.2026\, 15:30 Uhr<br/>Ende: 18.06.2026<br /><strong>Tickets
 : </strong><br/>9\,50 Euro p.P.\, Führung\, Museumseintritt und Kulinarik 
 im Preis enthalten. <br />\nAnmeldung: bis 3 Tage vor Termin (montags) erf
 orderlich!<br />\nAnmeldung und Infos: <br />\nTourist-Info Zell a.H.<br /
 >\nTel. 07835/6369240<br />\nE-Mail: tourist-info@zell.de<br /><strong>Lin
 k:</strong><br/><a href='https://ok.edith-webco.de/de/veranstaltungen/deta
 il/veranstaltung/id/560889-wo-hahn-und-henne-den-tisch-decken-eine-entdeck
 ungsreise-durch-die-bunte-welt-der-zeller-keramik/?vt=1'>Zur Detailseite</
 a>
END:VEVENT
END:VCALENDAR
