BEGIN:VCALENDAR
VERSION:2.0
PRODID:-//ok.edith-webco.de//NONSGML kigkonsult.se iCalcreator 2.41.92//
CALSCALE:GREGORIAN
METHOD:PUBLISH
UID:62306137-6634-4533-b433-653165663237
X-WR-TIMEZONE:Europe/Berlin
X-LIC-LOCATION:Europe/Berlin
BEGIN:VEVENT
UID:565956-kulturportal@ok.edith-webco.de
DTSTAMP:20260425T144924Z
DESCRIPTION:Kurzbeschreibung:\n Für alle die es gemütlich und traditionell 
 wollen ! Weinguide Bernd Neunstöcklin begrüßt seine Gäste beim VDP Weingut
  Wöhrle mit einem kleinen Umtrunk.\n Ort:\n Weingut Wöhrle\, Weinbergstraß
 e 3 \, 77933 \, Lahr\n Veranstalter:\n Stadt Lahr Stadtmarketing\n Termin:
 \n Beginn: 25.06.2026\, 17:00 Uhr\n Ende: 25.06.2026\n Tickets:\n \n https
 ://www.weinschmecker-tours.de/events\n Anmeldung erforderlich!\n Preis 30€
  pro Person / mind. 8 Pers. / max. 20 Pers\n Link:\n Zur Detailseite
DTSTART;TZID=Europe/Berlin:20260625T170000
DTEND;TZID=Europe/Berlin:20260625T200000
LOCATION:Weingut Wöhrle\, Weinbergstraße 3 \, 77933 \, Lahr
SUMMARY:Weinwanderung - Genießer Tour über den Schutterlindenberg\, Weingut
  Wöhrle\, Weinbergstraße 3 \, 77933
X-ALT-DESC;FMTTYPE=text/html:<strong>Kurzbeschreibung:</strong><br/>Für all
 e die es gemütlich und traditionell wollen ! Weinguide Bernd Neunstöcklin 
 begrüßt seine Gäste beim VDP Weingut Wöhrle mit einem kleinen Umtrunk.<br 
 /><strong>Ort:</strong><br/>Weingut Wöhrle\, Weinbergstraße 3 \, 77933 \, 
 Lahr<br /><strong>Veranstalter:</strong><br/>Stadt Lahr Stadtmarketing<br 
 /><strong>Termin:</strong><br/>Beginn: 25.06.2026\, 17:00 Uhr<br/>Ende: 25
 .06.2026<br /><strong>Tickets: </strong><br/><a  class='wco_cb_subtitle_li
 nk'  id='ticketlink'  href='https://www.weinschmecker-tours.de/events' tar
 get='_blank' title='Öffnet externen Link in einem neuen Fenster'></a><br/>
 https://www.weinschmecker-tours.de/events<br/>Anmeldung erforderlich!<br /
 >\nPreis 30€ pro Person / mind. 8 Pers. / max. 20 Pers<br /><strong>Link:<
 /strong><br/><a href='https://ok.edith-webco.de/de/veranstaltungen/detail/
 veranstaltung/id/565956-weinwanderung-geniesser-tour-ueber-den-schutterlin
 denberg/?vt=1'>Zur Detailseite</a>
END:VEVENT
END:VCALENDAR
