BEGIN:VCALENDAR
VERSION:2.0
PRODID:-//ok.edith-webco.de//NONSGML kigkonsult.se iCalcreator 2.41.92//
CALSCALE:GREGORIAN
METHOD:PUBLISH
UID:62373038-3030-4831-b932-336563303937
X-WR-TIMEZONE:Europe/Berlin
X-LIC-LOCATION:Europe/Berlin
BEGIN:VEVENT
UID:578226-kulturportal@ok.edith-webco.de
DTSTAMP:20260425T153900Z
DESCRIPTION:Kurzbeschreibung:\n Ein sensationelles Wochenende rund um das 5
 0 ccm Moped mit einer rund 220 km langen Ausfahrt durch den wunderschönen 
 Schwarzwald.\n Ort:\n Winzergenossenschaft Münchweier\n \, 77955 Ettenheim
 -Münchweier\n Veranstalter:\n Interessengemeinschaft Schwarzwald Moped Mar
 athon\n Termin:\n Beginn: 26.06.2026\n Ende: 26.06.2026\n Tickets:\n Eintr
 itt frei\n Link:\n Zur Detailseite
DTSTART;TZID=Europe/Berlin:20260626T000000
DTEND;TZID=Europe/Berlin:20260626T030000
LOCATION:Winzergenossenschaft Münchweier\, \, 77955 Ettenheim-Münchweier
SUMMARY:Schwarzwald Moped Marathon 2026 in Münchweier\, Münchweier
X-ALT-DESC;FMTTYPE=text/html:<strong>Kurzbeschreibung:</strong><br/>Ein sen
 sationelles Wochenende rund um das 50 ccm Moped mit einer rund 220 km lang
 en Ausfahrt durch den wunderschönen Schwarzwald.<br /><strong>Ort:</strong
 ><br/>Winzergenossenschaft Münchweier<br/>\, 77955 Ettenheim-Münchweier<br
  /><strong>Veranstalter:</strong><br/>Interessengemeinschaft Schwarzwald M
 oped Marathon<br /><strong>Termin:</strong><br/>Beginn: 26.06.2026<br/>End
 e: 26.06.2026<br /><strong>Tickets: </strong><br/>Eintritt frei<br /><stro
 ng>Link:</strong><br/><a href='https://ok.edith-webco.de/de/veranstaltunge
 n/detail/veranstaltung/id/578226-schwarzwald-moped-marathon-2026-in-muench
 weier/?vt=1'>Zur Detailseite</a>
END:VEVENT
END:VCALENDAR
