BEGIN:VCALENDAR
VERSION:2.0
PRODID:-//ok.edith-webco.de//NONSGML kigkonsult.se iCalcreator 2.41.92//
CALSCALE:GREGORIAN
METHOD:PUBLISH
UID:34316563-6535-4231-a338-356162623830
X-WR-TIMEZONE:Europe/Berlin
X-LIC-LOCATION:Europe/Berlin
BEGIN:VEVENT
UID:581330-kulturportal@ok.edith-webco.de
DTSTAMP:20260425T123913Z
DESCRIPTION:Kurzbeschreibung:\n Zusammen. Für. Zusenhofen. DORF FEST 2026 m
 it LIVE-Musik\, Blasmusik\, Reichhaltiges Speisen- und Getränkeangebot\, T
 ombola\, Hüpfburg\, Kindernachmittag\n Ort:\n Festplatz an der Freiwaldhal
 le Zusenhofen (Freiwald 6\, 77704 Oberkirch)\n Freiwald 6\, 77704 Oberkirc
 h\n Veranstalter:\n Dorfgemeinschaft Zusenhofen\n Termin:\n Beginn: 04.07.
 2026\n Ende: 04.07.2026\n Link:\n Zur Detailseite
DTSTART;TZID=Europe/Berlin:20260704T000000
DTEND;TZID=Europe/Berlin:20260704T030000
LOCATION:Festplatz an der Freiwaldhalle Zusenhofen (Freiwald 6\, 77704 Ober
 kirch)\, Freiwald 6\, 77704 Oberkirch
SUMMARY:Dorffest Zusenhofen\, Freiwaldhalle Oberkirch-Zusenhofen
X-ALT-DESC;FMTTYPE=text/html:<strong>Kurzbeschreibung:</strong><br/>Zusamme
 n. Für. Zusenhofen. DORF FEST 2026 mit LIVE-Musik\, Blasmusik\, Reichhalti
 ges Speisen- und Getränkeangebot\, Tombola\, Hüpfburg\, Kindernachmittag<b
 r /><strong>Ort:</strong><br/>Festplatz an der Freiwaldhalle Zusenhofen (F
 reiwald 6\, 77704 Oberkirch)<br/>Freiwald 6\, 77704 Oberkirch<br /><strong
 >Veranstalter:</strong><br/>Dorfgemeinschaft Zusenhofen<br /><strong>Termi
 n:</strong><br/>Beginn: 04.07.2026<br/>Ende: 04.07.2026<br /><strong>Link:
 </strong><br/><a href='https://ok.edith-webco.de/de/veranstaltungen/detail
 /veranstaltung/id/581330-dorffest-zusenhofen/?vt=1'>Zur Detailseite</a>
END:VEVENT
END:VCALENDAR
