BEGIN:VCALENDAR
VERSION:2.0
PRODID:-//ok.edith-webco.de//NONSGML kigkonsult.se iCalcreator 2.41.92//
CALSCALE:GREGORIAN
METHOD:PUBLISH
UID:62333665-6364-4864-b664-613566626537
X-WR-TIMEZONE:Europe/Berlin
X-LIC-LOCATION:Europe/Berlin
BEGIN:VEVENT
UID:583010-kulturportal@ok.edith-webco.de
DTSTAMP:20260426T034507Z
DESCRIPTION:Kurzbeschreibung:\n Der Schwarzwaldverein Haslach lädt zum Somm
 erfest im Klostergarten ein.\n Ort:\n Urenkopf\n Klosterstraße 1\, 77716 H
 aslach\n Veranstalter:\n Schwarzwaldverein e.V. Ortsgruppe Haslach\n Termi
 n:\n Beginn: 04.07.2026\, 15:00 Uhr\n Ende: 04.07.2026\n Link:\n Zur Detai
 lseite
DTSTART;TZID=Europe/Berlin:20260704T150000
DTEND;TZID=Europe/Berlin:20260704T180000
LOCATION:Urenkopf\, Klosterstraße 1\, 77716 Haslach
SUMMARY:Traditionelles Sommerfest\, Klostergarten
X-ALT-DESC;FMTTYPE=text/html:<strong>Kurzbeschreibung:</strong><br/>Der Sch
 warzwaldverein Haslach lädt zum Sommerfest im Klostergarten ein.<br /><str
 ong>Ort:</strong><br/>Urenkopf<br/>Klosterstraße 1\, 77716 Haslach<br /><s
 trong>Veranstalter:</strong><br/>Schwarzwaldverein e.V. Ortsgruppe Haslach
 <br /><strong>Termin:</strong><br/>Beginn: 04.07.2026\, 15:00 Uhr<br/>Ende
 : 04.07.2026<br /><strong>Link:</strong><br/><a href='https://ok.edith-web
 co.de/de/veranstaltungen/detail/veranstaltung/id/583010-traditionelles-som
 merfest/?vt=1'>Zur Detailseite</a>
END:VEVENT
END:VCALENDAR
