BEGIN:VCALENDAR
VERSION:2.0
PRODID:-//ok.edith-webco.de//NONSGML kigkonsult.se iCalcreator 2.41.92//
CALSCALE:GREGORIAN
METHOD:PUBLISH
UID:63623933-3733-4932-b137-383965343736
X-WR-TIMEZONE:Europe/Berlin
X-LIC-LOCATION:Europe/Berlin
BEGIN:VEVENT
UID:583504-kulturportal@ok.edith-webco.de
DTSTAMP:20260425T040335Z
DESCRIPTION:Kurzbeschreibung:\n Landwirte und Erzeuger zeigen die geschmack
 liche und handwerkliche Vielfalt ihrer Heimat\, während Künstler ihre krea
 tiven Werke präsentieren.\n Ort:\n Ettenheim Innenstadt\n Friedrichstraße/
 Rohanstraße\, 77955 Ettenheim\n Veranstalter:\n Stadt Ettenheim (HS)\n Ter
 min:\n Beginn: 26.04.2026\, 11:00 Uhr\n Ende: 26.04.2026\n Link:\n Zur Det
 ailseite
DTSTART;TZID=Europe/Berlin:20260426T110000
DTEND;TZID=Europe/Berlin:20260426T140000
LOCATION:Ettenheim Innenstadt\, Friedrichstraße/Rohanstraße\, 77955 Ettenhe
 im
SUMMARY:Naturpark-Markt und Künstler-Markt\, Ettenheim Innenstadt
X-ALT-DESC;FMTTYPE=text/html:<strong>Kurzbeschreibung:</strong><br/>Landwir
 te und Erzeuger zeigen die geschmackliche und handwerkliche Vielfalt ihrer
  Heimat\, während Künstler ihre kreativen Werke präsentieren.<br /><strong
 >Ort:</strong><br/>Ettenheim Innenstadt<br/>Friedrichstraße/Rohanstraße\, 
 77955 Ettenheim<br /><strong>Veranstalter:</strong><br/>Stadt Ettenheim (H
 S)<br /><strong>Termin:</strong><br/>Beginn: 26.04.2026\, 11:00 Uhr<br/>En
 de: 26.04.2026<br /><strong>Link:</strong><br/><a href='https://ok.edith-w
 ebco.de/de/veranstaltungen/detail/veranstaltung/id/583504-naturpark-markt-
 und-kuenstler-markt/?vt=1'>Zur Detailseite</a>
END:VEVENT
END:VCALENDAR
