BEGIN:VCALENDAR
VERSION:2.0
PRODID:-//ok.edith-webco.de//NONSGML kigkonsult.se iCalcreator 2.41.92//
CALSCALE:GREGORIAN
METHOD:PUBLISH
UID:38373462-3365-4563-b437-363834373337
X-WR-TIMEZONE:Europe/Berlin
X-LIC-LOCATION:Europe/Berlin
BEGIN:VEVENT
UID:584502-kulturportal@ok.edith-webco.de
DTSTAMP:20260425T231633Z
DESCRIPTION:Kurzbeschreibung:\n Der Angelverein Ettenheim freut sich\, euch
  zum zweitägigen Seefest am Apostelsee willkommen zu heißen!\n Ort:\n Apos
 telsee Ettenheim\n \, 77955 Ettenheim\n Veranstalter:\n Angelverein Ettenh
 eim\n Termin:\n Beginn: 04.07.2026\n Ende: 04.07.2026\n Link:\n Zur Detail
 seite
DTSTART;TZID=Europe/Berlin:20260704T000000
DTEND;TZID=Europe/Berlin:20260704T030000
LOCATION:Apostelsee Ettenheim\, \, 77955 Ettenheim
SUMMARY:Seefest am Apostelsee\, Apostelsee Ettenheim
X-ALT-DESC;FMTTYPE=text/html:<strong>Kurzbeschreibung:</strong><br/>Der Ang
 elverein Ettenheim freut sich\, euch zum zweitägigen Seefest am Apostelsee
  willkommen zu heißen!<br /><strong>Ort:</strong><br/>Apostelsee Ettenheim
 <br/>\, 77955 Ettenheim<br /><strong>Veranstalter:</strong><br/>Angelverei
 n Ettenheim<br /><strong>Termin:</strong><br/>Beginn: 04.07.2026<br/>Ende:
  04.07.2026<br /><strong>Link:</strong><br/><a href='https://ok.edith-webc
 o.de/de/veranstaltungen/detail/veranstaltung/id/584502-seefest-am-apostels
 ee/?vt=1'>Zur Detailseite</a>
END:VEVENT
END:VCALENDAR
