BEGIN:VCALENDAR
VERSION:2.0
PRODID:-//ok.edith-webco.de//NONSGML kigkonsult.se iCalcreator 2.41.92//
CALSCALE:GREGORIAN
METHOD:PUBLISH
UID:35323366-3564-4339-b162-643236343966
X-WR-TIMEZONE:Europe/Berlin
X-LIC-LOCATION:Europe/Berlin
BEGIN:VEVENT
UID:584844-kulturportal@ok.edith-webco.de
DTSTAMP:20260425T165050Z
DESCRIPTION:Kurzbeschreibung:\n Es wird ein ganz entspannter Abend in unser
 em Walnussgarten mit gemütlichem Picknick und Live-Musik.\n Ort:\n Weingut
  Weber\n Im Offental\, 77955 Ettenheim\n Veranstalter:\n Weingut Weber\n T
 ermin:\n Beginn: 02.07.2026\, 18:00 Uhr\n Ende: 02.07.2026\n Tickets:\n 42
 \,- €\n Link:\n Zur Detailseite
DTSTART;TZID=Europe/Berlin:20260702T180000
DTEND;TZID=Europe/Berlin:20260702T210000
LOCATION:Weingut Weber\, Im Offental\, 77955 Ettenheim
SUMMARY:Mädelsabend im Walnussgarten\, Weingut Weber
X-ALT-DESC;FMTTYPE=text/html:<strong>Kurzbeschreibung:</strong><br/>Es wird
  ein ganz entspannter Abend in unserem Walnussgarten mit gemütlichem Pickn
 ick und Live-Musik. <br /><strong>Ort:</strong><br/>Weingut Weber<br/>Im O
 ffental\, 77955 Ettenheim<br /><strong>Veranstalter:</strong><br/>Weingut 
 Weber<br /><strong>Termin:</strong><br/>Beginn: 02.07.2026\, 18:00 Uhr<br/
 >Ende: 02.07.2026<br /><strong>Tickets: </strong><br/>42\,- € <br /><stron
 g>Link:</strong><br/><a href='https://ok.edith-webco.de/de/veranstaltungen
 /detail/veranstaltung/id/584844-maedelsabend-im-walnussgarten/?vt=1'>Zur D
 etailseite</a>
END:VEVENT
END:VCALENDAR
