BEGIN:VCALENDAR
VERSION:2.0
PRODID:-//ok.edith-webco.de//NONSGML kigkonsult.se iCalcreator 2.41.92//
CALSCALE:GREGORIAN
METHOD:PUBLISH
UID:33666530-6338-4231-a630-626139646536
X-WR-TIMEZONE:Europe/Berlin
X-LIC-LOCATION:Europe/Berlin
BEGIN:VEVENT
UID:585835-kulturportal@ok.edith-webco.de
DTSTAMP:20260424T205655Z
DESCRIPTION:Kurzbeschreibung:\n Eröffnung der Saison 2026 im Heimat- und Kl
 einbrennermuseum in Steinachs Ortsmitte.\n Ort:\n Heimat- und Kleinbrenner
 museum\n Georg-Schöner-Straße 1\, 77790 Steinach\n Veranstalter:\n Histori
 scher Verein\n Termin:\n Beginn: 17.05.2026\, 16:00 Uhr\n Ende: 17.05.2026
 \n Link:\n Zur Detailseite
DTSTART;TZID=Europe/Berlin:20260517T160000
DTEND;TZID=Europe/Berlin:20260517T190000
LOCATION:Heimat- und Kleinbrennermuseum\, Georg-Schöner-Straße 1\, 77790 St
 einach
SUMMARY:Museumseröffnung\, Heimat- und Kleinbrennermuseum
X-ALT-DESC;FMTTYPE=text/html:<strong>Kurzbeschreibung:</strong><br/>Eröffnu
 ng der Saison 2026 im Heimat- und Kleinbrennermuseum in  Steinachs Ortsmit
 te.<br /><strong>Ort:</strong><br/>Heimat- und Kleinbrennermuseum<br/>Geor
 g-Schöner-Straße 1\, 77790 Steinach<br /><strong>Veranstalter:</strong><br
 />Historischer Verein<br /><strong>Termin:</strong><br/>Beginn: 17.05.2026
 \, 16:00 Uhr<br/>Ende: 17.05.2026<br /><strong>Link:</strong><br/><a href=
 'https://ok.edith-webco.de/de/veranstaltungen/detail/veranstaltung/id/5858
 35-museumseroeffnung/?vt=1'>Zur Detailseite</a>
END:VEVENT
END:VCALENDAR
