BEGIN:VCALENDAR
VERSION:2.0
PRODID:-//ok.edith-webco.de//NONSGML kigkonsult.se iCalcreator 2.41.92//
CALSCALE:GREGORIAN
METHOD:PUBLISH
UID:66333036-3434-4037-b064-336137656135
X-WR-TIMEZONE:Europe/Berlin
X-LIC-LOCATION:Europe/Berlin
BEGIN:VEVENT
UID:587522-kulturportal@ok.edith-webco.de
DTSTAMP:20260425T114158Z
DESCRIPTION:Kurzbeschreibung:\n Großes Stadtfest mit mehreren Bühnen\, Mark
 t und vielfältiger Gastronomie in der gesamten Innenstadt\n Ort:\n Innenst
 adt\n Marktplatz / Hauptstraße\, 77694 Kehl\n Veranstalter:\n Stadt Kehl\n
  Termin:\n Beginn: 15.05.2026\, 16:30 Uhr\n Ende: 15.05.2026\n Tickets:\n 
 Eintritt kostenlos\n Link:\n Zur Detailseite
DTSTART;TZID=Europe/Berlin:20260515T163000
DTEND;TZID=Europe/Berlin:20260515T193000
LOCATION:Innenstadt\, Marktplatz / Hauptstraße\, 77694 Kehl
SUMMARY:DICKE FISCHE Kehler Messdi 2026  \, Innenstadt
X-ALT-DESC;FMTTYPE=text/html:<strong>Kurzbeschreibung:</strong><br/>Großes 
 Stadtfest mit mehreren Bühnen\, Markt und vielfältiger Gastronomie in der 
 gesamten Innenstadt<br /><strong>Ort:</strong><br/>Innenstadt<br/>Marktpla
 tz / Hauptstraße\, 77694 Kehl<br /><strong>Veranstalter:</strong><br/>Stad
 t Kehl<br /><strong>Termin:</strong><br/>Beginn: 15.05.2026\, 16:30 Uhr<br
 />Ende: 15.05.2026<br /><strong>Tickets: </strong><br/>Eintritt kostenlos<
 br /><strong>Link:</strong><br/><a href='https://ok.edith-webco.de/de/vera
 nstaltungen/detail/veranstaltung/id/587522-dicke-fische-kehler-messdi-2026
 /?vt=1'>Zur Detailseite</a>
END:VEVENT
END:VCALENDAR
