BEGIN:VCALENDAR
VERSION:2.0
PRODID:-//ok.edith-webco.de//NONSGML kigkonsult.se iCalcreator 2.41.92//
CALSCALE:GREGORIAN
METHOD:PUBLISH
UID:35626363-3866-4434-a430-326435383266
X-WR-TIMEZONE:Europe/Berlin
X-LIC-LOCATION:Europe/Berlin
BEGIN:VEVENT
UID:590569-kulturportal@ok.edith-webco.de
DTSTAMP:20260425T153013Z
DESCRIPTION:Kurzbeschreibung:\n Führung am Langen Donnerstag zur Kulturgesc
 hichte des Essens und Trinkens in der römischen Epoche im Rahmen der DORT-
 Veranstaltungsreihe\n Ort:\n Museum im Ritterhaus\n Ritterstr. 10\, 77652 
 Offenburg\n Veranstalter:\n Museum im Ritterhaus Offenburg\n Termin:\n Beg
 inn: 04.06.2026\, 19:00 Uhr\n Ende: 04.06.2026\n Link:\n Zur Detailseite
DTSTART;TZID=Europe/Berlin:20260604T190000
DTEND;TZID=Europe/Berlin:20260604T220000
LOCATION:Museum im Ritterhaus\, Ritterstr. 10\, 77652 Offenburg
SUMMARY:Aufgetischt! Essen und Trinken in der Römerzeit\, Museum im Ritterh
 aus
X-ALT-DESC;FMTTYPE=text/html:<strong>Kurzbeschreibung:</strong><br/>Führung
  am Langen Donnerstag zur Kulturgeschichte des Essens und Trinkens in der 
 römischen Epoche im Rahmen der DORT-Veranstaltungsreihe<br /><strong>Ort:<
 /strong><br/>Museum im Ritterhaus<br/>Ritterstr. 10\, 77652 Offenburg<br /
 ><strong>Veranstalter:</strong><br/>Museum im Ritterhaus Offenburg<br /><s
 trong>Termin:</strong><br/>Beginn: 04.06.2026\, 19:00 Uhr<br/>Ende: 04.06.
 2026<br /><strong>Link:</strong><br/><a href='https://ok.edith-webco.de/de
 /veranstaltungen/detail/veranstaltung/id/590569-aufgetischt-essen-und-trin
 ken-in-der-roemerzeit/?vt=1'>Zur Detailseite</a>
END:VEVENT
END:VCALENDAR
