BEGIN:VCALENDAR
VERSION:2.0
PRODID:-//ok.edith-webco.de//NONSGML kigkonsult.se iCalcreator 2.41.92//
CALSCALE:GREGORIAN
METHOD:PUBLISH
UID:37353037-6666-4136-a639-666434376232
X-WR-TIMEZONE:Europe/Berlin
X-LIC-LOCATION:Europe/Berlin
BEGIN:VEVENT
UID:590575-kulturportal@ok.edith-webco.de
DTSTAMP:20260425T213556Z
DESCRIPTION:Kurzbeschreibung:\n Verbringen Sie den Abend bei einem Weinberg
 spaziergang mit Weinverkostung\n Ort:\n Weingut Bähr\n Gaisbach 29\, 77704
  Oberkirch\n Veranstalter:\n Weingut Bähr\n Termin:\n Beginn: 22.05.2026\,
  18:00 Uhr\n Ende: 22.05.2026\n Link:\n Zur Detailseite
DTSTART;TZID=Europe/Berlin:20260522T180000
DTEND;TZID=Europe/Berlin:20260522T210000
LOCATION:Weingut Bähr\, Gaisbach 29\, 77704 Oberkirch
SUMMARY:Frühlingserwachen im Oberkircher Schlossberg\, Weingut Bähr
X-ALT-DESC;FMTTYPE=text/html:<strong>Kurzbeschreibung:</strong><br/>Verbrin
 gen Sie den Abend bei einem Weinbergspaziergang mit Weinverkostung<br /><s
 trong>Ort:</strong><br/>Weingut Bähr<br/>Gaisbach 29\, 77704 Oberkirch<br 
 /><strong>Veranstalter:</strong><br/>Weingut Bähr<br /><strong>Termin:</st
 rong><br/>Beginn: 22.05.2026\, 18:00 Uhr<br/>Ende: 22.05.2026<br /><strong
 >Link:</strong><br/><a href='https://ok.edith-webco.de/de/veranstaltungen/
 detail/veranstaltung/id/590575-fruehlingserwachen-im-oberkircher-schlossbe
 rg/?vt=1'>Zur Detailseite</a>
END:VEVENT
END:VCALENDAR
