BEGIN:VCALENDAR
VERSION:2.0
PRODID:-//ok.edith-webco.de//NONSGML kigkonsult.se iCalcreator 2.41.92//
CALSCALE:GREGORIAN
METHOD:PUBLISH
UID:37313364-3962-4231-a130-643663623934
X-WR-TIMEZONE:Europe/Berlin
X-LIC-LOCATION:Europe/Berlin
BEGIN:VEVENT
UID:590602-kulturportal@ok.edith-webco.de
DTSTAMP:20260425T161424Z
DESCRIPTION:Kurzbeschreibung:\n Führung für Erwachsene durch das Offenburge
 r Stadtarchiv mit der Leiterin des Archivs\n Ort:\n Stadtarchiv\n Ritterst
 r. 10\, 77652 Offenburg\n Veranstalter:\n Stadtarchiv im Ritterhaus\n Term
 in:\n Beginn: 20.05.2026\, 18:00 Uhr\n Ende: 20.05.2026\n Link:\n Zur Deta
 ilseite
DTSTART;TZID=Europe/Berlin:20260520T180000
DTEND;TZID=Europe/Berlin:20260520T210000
LOCATION:Stadtarchiv\, Ritterstr. 10\, 77652 Offenburg
SUMMARY:Das Offenburger Stadtarchiv\, Museum im Ritterhaus
X-ALT-DESC;FMTTYPE=text/html:<strong>Kurzbeschreibung:</strong><br/>Führung
  für Erwachsene durch das Offenburger Stadtarchiv mit der Leiterin des Arc
 hivs<br /><strong>Ort:</strong><br/>Stadtarchiv<br/>Ritterstr. 10\, 77652 
 Offenburg<br /><strong>Veranstalter:</strong><br/>Stadtarchiv im Ritterhau
 s<br /><strong>Termin:</strong><br/>Beginn: 20.05.2026\, 18:00 Uhr<br/>End
 e: 20.05.2026<br /><strong>Link:</strong><br/><a href='https://ok.edith-we
 bco.de/de/veranstaltungen/detail/veranstaltung/id/590602-das-offenburger-s
 tadtarchiv/?vt=1'>Zur Detailseite</a>
END:VEVENT
END:VCALENDAR
