BEGIN:VCALENDAR
VERSION:2.0
PRODID:-//ok.edith-webco.de//NONSGML kigkonsult.se iCalcreator 2.41.92//
CALSCALE:GREGORIAN
METHOD:PUBLISH
UID:33393332-3536-4630-b562-623161636164
X-WR-TIMEZONE:Europe/Berlin
X-LIC-LOCATION:Europe/Berlin
BEGIN:VEVENT
UID:590606-kulturportal@ok.edith-webco.de
DTSTAMP:20260424T210407Z
DESCRIPTION:Kurzbeschreibung:\n Führung in der Glasmalwerkstatt von Karl Vo
 llmer (Atelierhaus Vollmer in der Zähringerstraße 15)\n Ort:\n Atelierhaus
 \, Zähringer Straße 15\n Zähringer Straße 15\, 77652 Offenburg\n Veranstal
 ter:\n Museum im Ritterhaus Offenburg\n Termin:\n Beginn: 21.06.2026\, 11:
 00 Uhr\n Ende: 21.06.2026\n Link:\n Zur Detailseite
DTSTART;TZID=Europe/Berlin:20260621T110000
DTEND;TZID=Europe/Berlin:20260621T140000
LOCATION:Atelierhaus\, Zähringer Straße 15\, Zähringer Straße 15\, 77652 Of
 fenburg
SUMMARY:Atelierhaus Karl Vollmer\, Atelierhaus\, Zähringer Straße 15
X-ALT-DESC;FMTTYPE=text/html:<strong>Kurzbeschreibung:</strong><br/>Führung
  in der Glasmalwerkstatt von Karl Vollmer (Atelierhaus Vollmer in der Zähr
 ingerstraße 15)<br /><strong>Ort:</strong><br/>Atelierhaus\, Zähringer Str
 aße 15<br/>Zähringer Straße 15\, 77652 Offenburg<br /><strong>Veranstalter
 :</strong><br/>Museum im Ritterhaus Offenburg<br /><strong>Termin:</strong
 ><br/>Beginn: 21.06.2026\, 11:00 Uhr<br/>Ende: 21.06.2026<br /><strong>Lin
 k:</strong><br/><a href='https://ok.edith-webco.de/de/veranstaltungen/deta
 il/veranstaltung/id/590606-atelierhaus-karl-vollmer/?vt=1'>Zur Detailseite
 </a>
END:VEVENT
END:VCALENDAR
