BEGIN:VCALENDAR
VERSION:2.0
PRODID:-//ok.edith-webco.de//NONSGML kigkonsult.se iCalcreator 2.41.92//
CALSCALE:GREGORIAN
METHOD:PUBLISH
UID:33313331-3837-4063-a263-326262656665
X-WR-TIMEZONE:Europe/Berlin
X-LIC-LOCATION:Europe/Berlin
BEGIN:VEVENT
UID:590608-kulturportal@ok.edith-webco.de
DTSTAMP:20260425T225311Z
DESCRIPTION:Kurzbeschreibung:\n Führung zur Kulturgeschichte des Essens und
  Trinkens im Mittelalter im Rahmen der DORT-Veranstaltungsreihe\n Ort:\n M
 useum im Ritterhaus\n Ritterstr. 10\, 77652 Offenburg\n Veranstalter:\n Mu
 seum im Ritterhaus Offenburg\n Termin:\n Beginn: 02.07.2026\, 19:00 Uhr\n 
 Ende: 02.07.2026\n Link:\n Zur Detailseite
DTSTART;TZID=Europe/Berlin:20260702T190000
DTEND;TZID=Europe/Berlin:20260702T220000
LOCATION:Museum im Ritterhaus\, Ritterstr. 10\, 77652 Offenburg
SUMMARY:Aufgetischt! Essen und Trinken im Mittelalter\, Museum im Ritterhau
 s
X-ALT-DESC;FMTTYPE=text/html:<strong>Kurzbeschreibung:</strong><br/>Führung
  zur Kulturgeschichte des Essens und Trinkens im Mittelalter im Rahmen der
  DORT-Veranstaltungsreihe<br /><strong>Ort:</strong><br/>Museum im Ritterh
 aus<br/>Ritterstr. 10\, 77652 Offenburg<br /><strong>Veranstalter:</strong
 ><br/>Museum im Ritterhaus Offenburg<br /><strong>Termin:</strong><br/>Beg
 inn: 02.07.2026\, 19:00 Uhr<br/>Ende: 02.07.2026<br /><strong>Link:</stron
 g><br/><a href='https://ok.edith-webco.de/de/veranstaltungen/detail/verans
 taltung/id/590608-aufgetischt-essen-und-trinken-im-mittelalter/?vt=1'>Zur 
 Detailseite</a>
END:VEVENT
END:VCALENDAR
