BEGIN:VCALENDAR
VERSION:2.0
PRODID:-//ok.edith-webco.de//NONSGML kigkonsult.se iCalcreator 2.41.92//
CALSCALE:GREGORIAN
METHOD:PUBLISH
UID:33306366-3432-4231-b666-633731363634
X-WR-TIMEZONE:Europe/Berlin
X-LIC-LOCATION:Europe/Berlin
BEGIN:VEVENT
UID:595086-kulturportal@ok.edith-webco.de
DTSTAMP:20260425T112021Z
DESCRIPTION:Kurzbeschreibung:\n Dorfrundgang - alles von Nordrach erfahren 
 was wissenswert und interessant ist!\n Ort:\n Rathaus\n Im Dorf 26\, 77787
  Nordrach\n Veranstalter:\n Touristen-Information Nordrach\n Termin:\n Beg
 inn: 15.07.2026\, 19:00 Uhr\n Ende: 15.07.2026\n Link:\n Zur Detailseite
DTSTART;TZID=Europe/Berlin:20260715T190000
DTEND;TZID=Europe/Berlin:20260715T220000
LOCATION:Rathaus \, Im Dorf 26\, 77787 Nordrach
SUMMARY:Dorfrundgang - Geschichte und Geschichten erleben\, Rathaus
X-ALT-DESC;FMTTYPE=text/html:<strong>Kurzbeschreibung:</strong><br/>Dorfrun
 dgang - alles von Nordrach erfahren was wissenswert und interessant ist! <
 br /><strong>Ort:</strong><br/>Rathaus <br/>Im Dorf 26\, 77787 Nordrach<br
  /><strong>Veranstalter:</strong><br/>Touristen-Information Nordrach<br />
 <strong>Termin:</strong><br/>Beginn: 15.07.2026\, 19:00 Uhr<br/>Ende: 15.0
 7.2026<br /><strong>Link:</strong><br/><a href='https://ok.edith-webco.de/
 de/veranstaltungen/detail/veranstaltung/id/595086-dorfrundgang-geschichte-
 und-geschichten-erleben/?vt=1'>Zur Detailseite</a>
END:VEVENT
END:VCALENDAR
