BEGIN:VCALENDAR
VERSION:2.0
PRODID:-//ok.edith-webco.de//NONSGML kigkonsult.se iCalcreator 2.41.92//
CALSCALE:GREGORIAN
METHOD:PUBLISH
UID:37306132-3632-4533-b436-323862653937
X-WR-TIMEZONE:Europe/Berlin
X-LIC-LOCATION:Europe/Berlin
BEGIN:VEVENT
UID:595090-kulturportal@ok.edith-webco.de
DTSTAMP:20260425T222539Z
DESCRIPTION:Kurzbeschreibung:\n Dorfrundgang - alles von Nordrach erfahren 
 was wissenswert und interessant ist!\n Ort:\n Rathaus\n Im Dorf 26\, 77787
  Nordrach\n Veranstalter:\n Touristen-Information Nordrach\n Termin:\n Beg
 inn: 26.08.2026\, 19:00 Uhr\n Ende: 26.08.2026\n Link:\n Zur Detailseite
DTSTART;TZID=Europe/Berlin:20260826T190000
DTEND;TZID=Europe/Berlin:20260826T220000
LOCATION:Rathaus \, Im Dorf 26\, 77787 Nordrach
SUMMARY:Dorfrundgang - Geschichte und Geschichten erleben\, Rathaus
X-ALT-DESC;FMTTYPE=text/html:<strong>Kurzbeschreibung:</strong><br/>Dorfrun
 dgang - alles von Nordrach erfahren was wissenswert und interessant ist! <
 br /><strong>Ort:</strong><br/>Rathaus <br/>Im Dorf 26\, 77787 Nordrach<br
  /><strong>Veranstalter:</strong><br/>Touristen-Information Nordrach<br />
 <strong>Termin:</strong><br/>Beginn: 26.08.2026\, 19:00 Uhr<br/>Ende: 26.0
 8.2026<br /><strong>Link:</strong><br/><a href='https://ok.edith-webco.de/
 de/veranstaltungen/detail/veranstaltung/id/595090-dorfrundgang-geschichte-
 und-geschichten-erleben/?vt=1'>Zur Detailseite</a>
END:VEVENT
END:VCALENDAR
