BEGIN:VCALENDAR
VERSION:2.0
PRODID:-//ok.edith-webco.de//NONSGML kigkonsult.se iCalcreator 2.41.92//
CALSCALE:GREGORIAN
METHOD:PUBLISH
UID:36326366-3030-4632-b837-613930303938
X-WR-TIMEZONE:Europe/Berlin
X-LIC-LOCATION:Europe/Berlin
BEGIN:VEVENT
UID:570402-kulturportal@ok.edith-webco.de
DTSTAMP:20260425T200957Z
DESCRIPTION:Kurzbeschreibung:\n Matthieu Saglio Quartet Flamenco\, Jazz\, A
 lte Musik und Barock verziert mit westafrikanischen Farben\n Ort:\n Reitha
 lle im Kulturforum\n Moltkestraße 31\, 77654 Offenburg\n Veranstalter:\n F
 rau Antje Haury\, Abteilungssleitung\, 8.1 Kulturbüro Offenburg\n Termin:
 \n Beginn: 25.04.2026\, 20:00 Uhr\n Ende: 25.04.2026\n Link:\n Zur Details
 eite
DTSTART;TZID=Europe/Berlin:20260425T200000
DTEND;TZID=Europe/Berlin:20260425T230000
LOCATION:Reithalle im Kulturforum\, Moltkestraße 31\, 77654 Offenburg
SUMMARY:Matthieu Saglio & Band\, Reithalle im Kulturforum
X-ALT-DESC;FMTTYPE=text/html:<strong>Kurzbeschreibung:</strong><br/>Matthie
 u Saglio Quartet\n\nFlamenco\, Jazz\, Alte Musik und Barock verziert mit w
 estafrikanischen Farben<br /><strong>Ort:</strong><br/>Reithalle im Kultur
 forum<br/>Moltkestraße 31\, 77654 Offenburg<br /><strong>Veranstalter:</st
 rong><br/>Frau Antje Haury\, Abteilungssleitung\, 8.1 Kulturbüro Offenburg
 <br /><strong>Termin:</strong><br/>Beginn: 25.04.2026\, 20:00 Uhr<br/>Ende
 : 25.04.2026<br /><strong>Link:</strong><br/><a href='https://ok.edith-web
 co.de/de/veranstaltungen/detail/veranstaltung/id/570402-matthieu-saglio-ba
 nd/?vt=1'>Zur Detailseite</a>
END:VEVENT
END:VCALENDAR
