BEGIN:VCALENDAR
VERSION:2.0
PRODID:-//ok.edith-webco.de//NONSGML kigkonsult.se iCalcreator 2.41.92//
CALSCALE:GREGORIAN
METHOD:PUBLISH
UID:33666365-6531-4039-b432-616130386364
X-WR-TIMEZONE:Europe/Berlin
X-LIC-LOCATION:Europe/Berlin
BEGIN:VEVENT
UID:570989-kulturportal@ok.edith-webco.de
DTSTAMP:20260425T204913Z
DESCRIPTION:Kurzbeschreibung:\n Das collegium musicum Oberkirch beschließt 
 traditionell mit seinem Frühjahrskonzert die Abonnementreihe der Stadt Obe
 rkirch.\n Ort:\n Erwin-Braun-Halle\n Querstraße 10\, 77704 Oberkirch\n Ver
 anstalter:\n Stadt Oberkirch\n Termin:\n Beginn: 10.05.2026\, 19:00 Uhr\n 
 Ende: 10.05.2026\n Tickets:\n Tickets kaufen\n https://ortenaukultur.reser
 vix.de/p/reservix/event/2435586\n Preise:\n bis 19\,00 € + Ermäßigung\n *P
 reise inkl. MwSt.\n \n Link:\n Zur Detailseite
DTSTART;TZID=Europe/Berlin:20260510T190000
DTEND;TZID=Europe/Berlin:20260510T220000
LOCATION:Erwin-Braun-Halle\, Querstraße 10\, 77704 Oberkirch
SUMMARY:Frühjahrskonzert des Orchestervereins collegium musicum\, Erwin-Bra
 un-Halle
X-ALT-DESC;FMTTYPE=text/html:<strong>Kurzbeschreibung:</strong><br/>Das col
 legium musicum Oberkirch beschließt traditionell mit seinem Frühjahrskonze
 rt die Abonnementreihe der Stadt Oberkirch.<br /><strong>Ort:</strong><br/
 >Erwin-Braun-Halle<br/>Querstraße 10\, 77704 Oberkirch<br /><strong>Verans
 talter:</strong><br/>Stadt Oberkirch<br /><strong>Termin:</strong><br/>Beg
 inn: 10.05.2026\, 19:00 Uhr<br/>Ende: 10.05.2026<br /><strong>Tickets: </s
 trong><br/><a rel='asdf' href='https://ok.edith-webco.de/de/veranstaltunge
 n/detail/tickets/id/570989-fruehjahrskonzert-des-orchestervereins-collegiu
 m-musicum/?follow=https%253A%252F%252Fortenaukultur.reservix.de%252Fp%252F
 reservix%252Fevent%252F2435586' target='_blank' title='' id='ticketlink'>T
 ickets kaufen</a><br/>https://ortenaukultur.reservix.de/p/reservix/event/2
 435586<br/><b>Preise: </b><br />bis 19\,00 &euro\;&nbsp\; + Ermäßigung<br 
 />*Preise inkl. MwSt.<br /><br /><strong>Link:</strong><br/><a href='https
 ://ok.edith-webco.de/de/veranstaltungen/detail/veranstaltung/id/570989-fru
 ehjahrskonzert-des-orchestervereins-collegium-musicum/?vt=1'>Zur Detailsei
 te</a>
END:VEVENT
END:VCALENDAR
