BEGIN:VCALENDAR
VERSION:2.0
PRODID:-//ok.edith-webco.de//NONSGML kigkonsult.se iCalcreator 2.41.92//
CALSCALE:GREGORIAN
METHOD:PUBLISH
UID:34313463-3362-4461-b538-363531306535
X-WR-TIMEZONE:Europe/Berlin
X-LIC-LOCATION:Europe/Berlin
BEGIN:VEVENT
UID:572802-kulturportal@ok.edith-webco.de
DTSTAMP:20260424T183608Z
DESCRIPTION:Kurzbeschreibung:\n Ein italienischer Liederabend von Dietmar L
 oeffler mit Tommaso Cacciapuoti\, Carolin Fortenbacher\, Tim Grobe\, Anika
  Lehmann\, Dietmar Loeffler + einem Live-Koch.\n Ort:\n Oberrheinhalle\n S
 chutterwälder Straße\, Messegelände\, 77656 Offenburg\n Veranstalter:\n Ku
 lturbüro Offenburg\n Termin:\n Beginn: 24.04.2026\, 20:00 Uhr\n Ende: 24.0
 4.2026\n Link:\n Zur Detailseite
DTSTART;TZID=Europe/Berlin:20260424T200000
DTEND;TZID=Europe/Berlin:20260424T230000
LOCATION:Oberrheinhalle\, Schutterwälder Straße\, Messegelände\, 77656 Offe
 nburg
SUMMARY:Oberrhein Theaterreihe - Pasta e Basta\, Oberrheinhalle
X-ALT-DESC;FMTTYPE=text/html:<strong>Kurzbeschreibung:</strong><br/>Ein ita
 lienischer Liederabend von Dietmar Loeffler\nmit Tommaso Cacciapuoti\, Car
 olin Fortenbacher\, Tim Grobe\, Anika Lehmann\, Dietmar Loeffler + einem L
 ive-Koch.<br /><strong>Ort:</strong><br/>Oberrheinhalle<br/>Schutterwälder
  Straße\, Messegelände\, 77656 Offenburg<br /><strong>Veranstalter:</stron
 g><br/>Kulturbüro Offenburg<br /><strong>Termin:</strong><br/>Beginn: 24.0
 4.2026\, 20:00 Uhr<br/>Ende: 24.04.2026<br /><strong>Link:</strong><br/><a
  href='https://ok.edith-webco.de/de/veranstaltungen/detail/veranstaltung/i
 d/572802-oberrhein-theaterreihe-pasta-e-basta/?vt=1'>Zur Detailseite</a>
END:VEVENT
END:VCALENDAR
