BEGIN:VCALENDAR
VERSION:2.0
PRODID:-//ok.edith-webco.de//NONSGML kigkonsult.se iCalcreator 2.41.92//
CALSCALE:GREGORIAN
METHOD:PUBLISH
UID:36346231-3133-4263-a138-363963643861
X-WR-TIMEZONE:Europe/Berlin
X-LIC-LOCATION:Europe/Berlin
BEGIN:VEVENT
UID:578109-kulturportal@ok.edith-webco.de
DTSTAMP:20260425T112632Z
DESCRIPTION:Kurzbeschreibung:\n Grooviger Jazzfunk aus Tokio. Das Jazz Trio
  Nautilus präsentiert sich organisch\, entspannt und hochmusikalisch.\n Or
 t:\n Reithalle im Kulturforum\n Moltkestraße 31\, 77654 Offenburg\n Verans
 talter:\n Kulturbüro Offenburg\n Termin:\n Beginn: 15.05.2026\, 20:00 Uhr
 \n Ende: 15.05.2026\n Tickets:\n Tickets kaufen\n https://ortenaukultur.re
 servix.de/p/reservix/event/2425989\n 1. Kategorie:\n bis 18\,60 € + Ermäßi
 gung\n *Preise inkl. MwSt.\n \n Link:\n Zur Detailseite
DTSTART;TZID=Europe/Berlin:20260515T200000
DTEND;TZID=Europe/Berlin:20260515T230000
LOCATION:Reithalle im Kulturforum\, Moltkestraße 31\, 77654 Offenburg
SUMMARY:Nautilus\, Reithalle im Kulturforum
X-ALT-DESC;FMTTYPE=text/html:<strong>Kurzbeschreibung:</strong><br/>Groovig
 er Jazzfunk aus Tokio.  Das Jazz Trio Nautilus präsentiert sich organisch\
 , entspannt und hochmusikalisch. <br /><strong>Ort:</strong><br/>Reithalle
  im Kulturforum<br/>Moltkestraße 31\, 77654 Offenburg<br /><strong>Veranst
 alter:</strong><br/>Kulturbüro Offenburg<br /><strong>Termin:</strong><br/
 >Beginn: 15.05.2026\, 20:00 Uhr<br/>Ende: 15.05.2026<br /><strong>Tickets:
  </strong><br/><a rel='asdf' href='https://ok.edith-webco.de/de/veranstalt
 ungen/detail/tickets/id/578109-nautilus/?follow=https%253A%252F%252Fortena
 ukultur.reservix.de%252Fp%252Freservix%252Fevent%252F2425989' target='_bla
 nk' title='' id='ticketlink'>Tickets kaufen</a><br/>https://ortenaukultur.
 reservix.de/p/reservix/event/2425989<br/><b>1. Kategorie: </b><br />bis 18
 \,60 &euro\;&nbsp\; + Ermäßigung<br />*Preise inkl. MwSt.<br /><br /><stro
 ng>Link:</strong><br/><a href='https://ok.edith-webco.de/de/veranstaltunge
 n/detail/veranstaltung/id/578109-nautilus/?vt=1'>Zur Detailseite</a>
END:VEVENT
END:VCALENDAR
