BEGIN:VCALENDAR
VERSION:2.0
PRODID:-//ok.edith-webco.de//NONSGML kigkonsult.se iCalcreator 2.41.92//
CALSCALE:GREGORIAN
METHOD:PUBLISH
UID:31363863-6164-4338-b261-303463306563
X-WR-TIMEZONE:Europe/Berlin
X-LIC-LOCATION:Europe/Berlin
BEGIN:VEVENT
UID:585146-kulturportal@ok.edith-webco.de
DTSTAMP:20260426T013556Z
DESCRIPTION:Kurzbeschreibung:\n Kultursommer Kindertheater 'Frau Holle' mit
  dem Hohenloher Figurentheater im Gemeindehaus St. Marien\n Ort:\n Gemeind
 ehaus St. Marien\n Klosterstr. 20\, 77723 Gengenbach\n Veranstalter:\n Gen
 genbach Kultur- und Tourismus GmbH\n Termin:\n Beginn: 21.06.2026\, 16:00 
 Uhr\n Ende: 21.06.2026\n Tickets:\n Tickets kaufen\n https://ortenaukultur
 .reservix.de/p/reservix/event/2557781\n Einheitspreis:\n bis 9\,80 € + Erm
 äßigung\n *Preise inkl. MwSt.\n \n Link:\n Zur Detailseite
DTSTART;TZID=Europe/Berlin:20260621T160000
DTEND;TZID=Europe/Berlin:20260621T190000
LOCATION:Gemeindehaus St. Marien\, Klosterstr. 20\, 77723 Gengenbach
SUMMARY:Kindertheater Frau Holle\, Gemeindehaus St. Marien
X-ALT-DESC;FMTTYPE=text/html:<strong>Kurzbeschreibung:</strong><br/>Kulturs
 ommer Kindertheater 'Frau Holle' mit dem  Hohenloher Figurentheater im Gem
 eindehaus St. Marien\n<br /><strong>Ort:</strong><br/>Gemeindehaus St. Mar
 ien<br/>Klosterstr. 20\, 77723 Gengenbach<br /><strong>Veranstalter:</stro
 ng><br/>Gengenbach Kultur- und Tourismus GmbH<br /><strong>Termin:</strong
 ><br/>Beginn: 21.06.2026\, 16:00 Uhr<br/>Ende: 21.06.2026<br /><strong>Tic
 kets: </strong><br/><a rel='asdf' href='https://ok.edith-webco.de/de/veran
 staltungen/detail/tickets/id/585146-kindertheater-frau-holle/?follow=https
 %253A%252F%252Fortenaukultur.reservix.de%252Fp%252Freservix%252Fevent%252F
 2557781' target='_blank' title='' id='ticketlink'>Tickets kaufen</a><br/>h
 ttps://ortenaukultur.reservix.de/p/reservix/event/2557781<br/><b>Einheitsp
 reis: </b><br />bis 9\,80 &euro\;&nbsp\; + Ermäßigung<br />*Preise inkl. M
 wSt.<br /><br /><strong>Link:</strong><br/><a href='https://ok.edith-webco
 .de/de/veranstaltungen/detail/veranstaltung/id/585146-kindertheater-frau-h
 olle/?vt=1'>Zur Detailseite</a>
END:VEVENT
END:VCALENDAR
