BEGIN:VCALENDAR
VERSION:2.0
PRODID:-//ok.edith-webco.de//NONSGML kigkonsult.se iCalcreator 2.41.92//
CALSCALE:GREGORIAN
METHOD:PUBLISH
UID:63316532-3134-4538-a538-396139356561
X-WR-TIMEZONE:Europe/Berlin
X-LIC-LOCATION:Europe/Berlin
BEGIN:VEVENT
UID:585154-kulturportal@ok.edith-webco.de
DTSTAMP:20260425T152503Z
DESCRIPTION:Kurzbeschreibung:\n Ein Vortrag mit Lichtbildern von Prof. Dr. 
 Werner Mezger\, Universität Freiburg i. Br..\n Ort:\n Oberkircher Winzer e
 G\n Renchener Straße 42\, 77704 Oberkirch\n Veranstalter:\n Stadt Oberkirc
 h\n Termin:\n Beginn: 16.07.2026\, 19:00 Uhr\n Ende: 16.07.2026\n Tickets:
 \n Tickets kaufen\n https://ortenaukultur.reservix.de/p/reservix/event/249
 9041\n Preise:\n bis 8\,00 € + Ermäßigung\n *Preise inkl. MwSt.\n \n Link:
 \n Zur Detailseite
DTSTART;TZID=Europe/Berlin:20260716T190000
DTEND;TZID=Europe/Berlin:20260716T220000
LOCATION:Oberkircher Winzer eG\, Renchener Straße 42\, 77704 Oberkirch
SUMMARY:Heimat und Tracht: Ein Thema von gestern in der Welt von heute?\, O
 berkircher Winzer eG
X-ALT-DESC;FMTTYPE=text/html:<strong>Kurzbeschreibung:</strong><br/>Ein Vor
 trag mit Lichtbildern von Prof. Dr. Werner Mezger\, Universität Freiburg i
 . Br..<br /><strong>Ort:</strong><br/>Oberkircher Winzer eG<br/>Renchener 
 Straße 42\, 77704 Oberkirch<br /><strong>Veranstalter:</strong><br/>Stadt 
 Oberkirch<br /><strong>Termin:</strong><br/>Beginn: 16.07.2026\, 19:00 Uhr
 <br/>Ende: 16.07.2026<br /><strong>Tickets: </strong><br/><a rel='asdf' hr
 ef='https://ok.edith-webco.de/de/veranstaltungen/detail/tickets/id/585154-
 heimat-und-tracht-ein-thema-von-gestern-in-der-welt-von-heute/?follow=http
 s%253A%252F%252Fortenaukultur.reservix.de%252Fp%252Freservix%252Fevent%252
 F2499041' target='_blank' title='' id='ticketlink'>Tickets kaufen</a><br/>
 https://ortenaukultur.reservix.de/p/reservix/event/2499041<br/><b>Preise: 
 </b><br />bis 8\,00 &euro\;&nbsp\; + Ermäßigung<br />*Preise inkl. MwSt.<b
 r /><br /><strong>Link:</strong><br/><a href='https://ok.edith-webco.de/de
 /veranstaltungen/detail/veranstaltung/id/585154-heimat-und-tracht-ein-them
 a-von-gestern-in-der-welt-von-heute/?vt=1'>Zur Detailseite</a>
END:VEVENT
END:VCALENDAR
