BEGIN:VCALENDAR
VERSION:2.0
PRODID:-//ok.edith-webco.de//NONSGML kigkonsult.se iCalcreator 2.41.92//
CALSCALE:GREGORIAN
METHOD:PUBLISH
UID:66303937-3030-4438-b536-323834346263
X-WR-TIMEZONE:Europe/Berlin
X-LIC-LOCATION:Europe/Berlin
BEGIN:VEVENT
UID:585159-kulturportal@ok.edith-webco.de
DTSTAMP:20260426T022128Z
DESCRIPTION:Kurzbeschreibung:\n Carolin und Daniel freuen sich enorm auf ih
 r „Heimspiel“ in Baden-Württemberg und haben ganz sicher auch die größten 
 Hits im Gepäck!\n Ort:\n Festgelände am Stadion\n Raiffeisenstraße\, 77704
  Oberkirch\n Veranstalter:\n Stadt Oberkirch\n Termin:\n Beginn: 11.09.202
 6\, 20:00 Uhr\n Ende: 11.09.2026\n Tickets:\n Tickets kaufen\n https://ort
 enaukultur.reservix.de/p/reservix/event/2499050\n Preis:\n 30\,00 €\n *Pre
 ise inkl. MwSt.\n \n Link:\n Zur Detailseite
DTSTART;TZID=Europe/Berlin:20260911T200000
DTEND;TZID=Europe/Berlin:20260911T230000
LOCATION:Festgelände am Stadion\, Raiffeisenstraße\, 77704 Oberkirch
SUMMARY:Glasperlenspiel\, Festgelände am Stadion
X-ALT-DESC;FMTTYPE=text/html:<strong>Kurzbeschreibung:</strong><br/>Carolin
  und Daniel freuen sich enorm auf ihr „Heimspiel“ in Baden-Württemberg und
  haben ganz sicher auch die größten Hits im Gepäck!<br /><strong>Ort:</str
 ong><br/>Festgelände am Stadion<br/>Raiffeisenstraße\, 77704 Oberkirch<br 
 /><strong>Veranstalter:</strong><br/>Stadt Oberkirch<br /><strong>Termin:<
 /strong><br/>Beginn: 11.09.2026\, 20:00 Uhr<br/>Ende: 11.09.2026<br /><str
 ong>Tickets: </strong><br/><a rel='asdf' href='https://ok.edith-webco.de/d
 e/veranstaltungen/detail/tickets/id/585159-glasperlenspiel/?follow=https%2
 53A%252F%252Fortenaukultur.reservix.de%252Fp%252Freservix%252Fevent%252F24
 99050' target='_blank' title='' id='ticketlink'>Tickets kaufen</a><br/>htt
 ps://ortenaukultur.reservix.de/p/reservix/event/2499050<br/><b>Preis: </b>
 <br />30\,00 &euro\;<br />*Preise inkl. MwSt.<br /><br /><strong>Link:</st
 rong><br/><a href='https://ok.edith-webco.de/de/veranstaltungen/detail/ver
 anstaltung/id/585159-glasperlenspiel/?vt=1'>Zur Detailseite</a>
END:VEVENT
END:VCALENDAR
