BEGIN:VCALENDAR
VERSION:2.0
PRODID:-//ok.edith-webco.de//NONSGML kigkonsult.se iCalcreator 2.41.92//
CALSCALE:GREGORIAN
METHOD:PUBLISH
UID:64626338-6462-4131-b862-303734306437
X-WR-TIMEZONE:Europe/Berlin
X-LIC-LOCATION:Europe/Berlin
BEGIN:VEVENT
UID:588665-kulturportal@ok.edith-webco.de
DTSTAMP:20260425T230833Z
DESCRIPTION:Kurzbeschreibung:\n Dazu hauseigene Hirschbratwürste\, Wienerle
 \, selbstgebackenes Brot\, Stockbrot für Kinder\, weitere Getränke. Anmeld
 ung: Touristen-Info 07838/929921.\n Ort:\n Rathaus\n Im Dorf 26\, 77787 No
 rdrach\n Veranstalter:\n Touristen-Information Nordrach\n Termin:\n Beginn
 : 19.12.2026\, 16:30 Uhr\n Ende: 19.12.2026\n Link:\n Zur Detailseite
DTSTART;TZID=Europe/Berlin:20261219T163000
DTEND;TZID=Europe/Berlin:20261219T193000
LOCATION:Rathaus \, Im Dorf 26\, 77787 Nordrach
SUMMARY:Geführte Laternenwanderung zum weihnachtlichen Basilihof - mit Glüh
 weinhock am Lagerfeuer!\, Rathaus
X-ALT-DESC;FMTTYPE=text/html:<strong>Kurzbeschreibung:</strong><br/>Dazu ha
 useigene Hirschbratwürste\, Wienerle\, selbstgebackenes Brot\, Stockbrot f
 ür Kinder\, weitere Getränke. Anmeldung: Touristen-Info 07838/929921.<br /
 ><strong>Ort:</strong><br/>Rathaus <br/>Im Dorf 26\, 77787 Nordrach<br /><
 strong>Veranstalter:</strong><br/>Touristen-Information Nordrach<br /><str
 ong>Termin:</strong><br/>Beginn: 19.12.2026\, 16:30 Uhr<br/>Ende: 19.12.20
 26<br /><strong>Link:</strong><br/><a href='https://ok.edith-webco.de/de/v
 eranstaltungen/detail/veranstaltung/id/588665-gefuehrte-laternenwanderung-
 zum-weihnachtlichen-basilihof-mit-gluehweinhock-am-lagerfeuer/?vt=1'>Zur D
 etailseite</a>
END:VEVENT
END:VCALENDAR
