BEGIN:VCALENDAR
VERSION:2.0
PRODID:-//ok.edith-webco.de//NONSGML kigkonsult.se iCalcreator 2.41.92//
CALSCALE:GREGORIAN
METHOD:PUBLISH
UID:38656634-3536-4135-a662-306537303135
X-WR-TIMEZONE:Europe/Berlin
X-LIC-LOCATION:Europe/Berlin
BEGIN:VEVENT
UID:590641-kulturportal@ok.edith-webco.de
DTSTAMP:20260426T042754Z
DESCRIPTION:Kurzbeschreibung:\n Der renommierte US-Saxophonist Don Braden u
 nd der Bassist Joris Teepe bringen ihr Combo nach Kehl. Ein Muss für alle 
 Jazzliebhaber der Grenzregion!\n Ort:\n Das Kulturhaus.\n Am Läger 12\, 77
 694 Kehl\n Veranstalter:\n Stefan Sirbu\n Termin:\n Beginn: 08.06.2026\n E
 nde: 08.06.2026\n Tickets:\n Tickets kaufen\n https://ortenaukultur.reserv
 ix.de/p/reservix/event/2532130\n 1. Kategorie:\n 23\,00 €\n *Preise inkl. 
 MwSt.\n \n Link:\n Zur Detailseite
DTSTART;TZID=Europe/Berlin:20260608T000000
DTEND;TZID=Europe/Berlin:20260608T030000
LOCATION:Das Kulturhaus.\, Am Läger 12\, 77694 Kehl
SUMMARY:Don Braden & Joris Teepe Quartet\, Das Kulturhaus.
X-ALT-DESC;FMTTYPE=text/html:<strong>Kurzbeschreibung:</strong><br/>Der ren
 ommierte US-Saxophonist Don Braden und der Bassist Joris Teepe bringen ihr
  Combo nach Kehl. \nEin Muss für alle Jazzliebhaber der Grenzregion! <br /
 ><strong>Ort:</strong><br/>Das Kulturhaus.<br/>Am Läger 12\, 77694 Kehl<br
  /><strong>Veranstalter:</strong><br/>Stefan Sirbu <br /><strong>Termin:</
 strong><br/>Beginn: 08.06.2026<br/>Ende: 08.06.2026<br /><strong>Tickets: 
 </strong><br/><a rel='asdf' href='https://ok.edith-webco.de/de/veranstaltu
 ngen/detail/tickets/id/590641-don-braden-joris-teepe-quartet/?follow=https
 %253A%252F%252Fortenaukultur.reservix.de%252Fp%252Freservix%252Fevent%252F
 2532130' target='_blank' title='' id='ticketlink'>Tickets kaufen</a><br/>h
 ttps://ortenaukultur.reservix.de/p/reservix/event/2532130<br/><b>1. Katego
 rie: </b><br />23\,00 &euro\;<br />*Preise inkl. MwSt.<br /><br /><strong>
 Link:</strong><br/><a href='https://ok.edith-webco.de/de/veranstaltungen/d
 etail/veranstaltung/id/590641-don-braden-joris-teepe-quartet/?vt=1'>Zur De
 tailseite</a>
END:VEVENT
END:VCALENDAR
