BEGIN:VCALENDAR
VERSION:2.0
PRODID:-//ok.edith-webco.de//NONSGML kigkonsult.se iCalcreator 2.41.92//
CALSCALE:GREGORIAN
METHOD:PUBLISH
UID:31633230-3135-4234-b763-616539636262
X-WR-TIMEZONE:Europe/Berlin
X-LIC-LOCATION:Europe/Berlin
BEGIN:VEVENT
UID:591659-kulturportal@ok.edith-webco.de
DTSTAMP:20260425T030328Z
DESCRIPTION:Kurzbeschreibung:\n Wanderung mit Wildkräuter- und Heilpflanzen
 pädagogin Agnes Vogt aus Oppenau\n Ort:\n Grüne Begleiter\n Wahlholzstr. 2
 \, 77728 Oppenau\n Veranstalter:\n Agnes Vogt\n Termin:\n Beginn: 24.06.20
 26\, 18:00 Uhr\n Ende: 24.06.2026\n Tickets:\n Tickets\n 14.-€ zzgl. 4.-€ 
 für Lebensmittel\n Link:\n Zur Detailseite
DTSTART;TZID=Europe/Berlin:20260624T180000
DTEND;TZID=Europe/Berlin:20260624T210000
LOCATION:Grüne Begleiter\, Wahlholzstr. 2\, 77728 Oppenau
SUMMARY:Wanderung zur Sommersonnwende\, Grüne Begleiter
X-ALT-DESC;FMTTYPE=text/html:<strong>Kurzbeschreibung:</strong><br/>Wanderu
 ng mit Wildkräuter- und Heilpflanzenpädagogin Agnes Vogt aus Oppenau<br />
 <strong>Ort:</strong><br/>Grüne Begleiter<br/>Wahlholzstr. 2\, 77728 Oppen
 au<br /><strong>Veranstalter:</strong><br/>Agnes Vogt<br /><strong>Termin:
 </strong><br/>Beginn: 24.06.2026\, 18:00 Uhr<br/>Ende: 24.06.2026<br /><st
 rong>Tickets: </strong><br/><a  class='wco_cb_subtitle_link'  id='ticketli
 nk'  href='tel:07804 2697' target='_blank' >Tickets</a><br/>14.-€ zzgl. 4.
 -€ für Lebensmittel<br /><strong>Link:</strong><br/><a href='https://ok.ed
 ith-webco.de/de/veranstaltungen/detail/veranstaltung/id/591659-wanderung-z
 ur-sommersonnwende/?vt=1'>Zur Detailseite</a>
END:VEVENT
END:VCALENDAR
